BEGIN:VCALENDAR
VERSION:2.0
PRODID:-//Petra&#039;s Bar - ECPv6.15.20//NONSGML v1.0//EN
CALSCALE:GREGORIAN
METHOD:PUBLISH
X-ORIGINAL-URL:https://petrasbar.com
X-WR-CALDESC:Events for Petra&#039;s Bar
REFRESH-INTERVAL;VALUE=DURATION:PT1H
X-Robots-Tag:noindex
X-PUBLISHED-TTL:PT1H
BEGIN:VTIMEZONE
TZID:America/New_York
BEGIN:DAYLIGHT
TZOFFSETFROM:-0500
TZOFFSETTO:-0400
TZNAME:EDT
DTSTART:20210314T070000
END:DAYLIGHT
BEGIN:STANDARD
TZOFFSETFROM:-0400
TZOFFSETTO:-0500
TZNAME:EST
DTSTART:20211107T060000
END:STANDARD
BEGIN:DAYLIGHT
TZOFFSETFROM:-0500
TZOFFSETTO:-0400
TZNAME:EDT
DTSTART:20220313T070000
END:DAYLIGHT
BEGIN:STANDARD
TZOFFSETFROM:-0400
TZOFFSETTO:-0500
TZNAME:EST
DTSTART:20221106T060000
END:STANDARD
BEGIN:DAYLIGHT
TZOFFSETFROM:-0500
TZOFFSETTO:-0400
TZNAME:EDT
DTSTART:20230312T070000
END:DAYLIGHT
BEGIN:STANDARD
TZOFFSETFROM:-0400
TZOFFSETTO:-0500
TZNAME:EST
DTSTART:20231105T060000
END:STANDARD
END:VTIMEZONE
BEGIN:VEVENT
DTSTART;TZID=America/New_York:20220212T200000
DTEND;TZID=America/New_York:20220212T200000
DTSTAMP:20260420T232909
CREATED:20211230T185237Z
LAST-MODIFIED:20211230T214159Z
UID:10001319-1644696000-1644696000@petrasbar.com
SUMMARY:29th Annual Johnson Valentine Bash
DESCRIPTION:Saturday\, February 12th\nDoors: 8pm | Show: 9pm\nTickets: $7 Advance | $10 Day Of\n• 21+ with valid ID\, mask\, proof of vaccination or 48 hr negative covid test \nJohnson Brothers 29th annual Valentine Bash with Hardcore Lounge\, Mary Massie Band\, and Moa. Along with DJs Spaceboy and Kraftward.
URL:https://petrasbar.com/event/29th-annual-johnson-valentine-bash/
LOCATION:Petra’s\, 1919 Commonwealth Avenue\, Charlotte\, NC\, 28205\, United States
CATEGORIES:Featured,Live Music,Shows
ATTACH;FMTTYPE=image/jpeg:https://petrasbar.com/wp-content/uploads/2021/12/652fe6f18fe0f9702d9fb418bf9cda6d-HXzyLu.tmp_.jpg
GEO:35.2190645;-80.8125685
X-APPLE-STRUCTURED-LOCATION;VALUE=URI;X-ADDRESS=Petra’s 1919 Commonwealth Avenue Charlotte NC 28205 United States;X-APPLE-RADIUS=500;X-TITLE=1919 Commonwealth Avenue:geo:-80.8125685,35.2190645
END:VEVENT
END:VCALENDAR