BEGIN:VCALENDAR
VERSION:2.0
PRODID:-//Petra&#039;s Bar - ECPv6.15.20//NONSGML v1.0//EN
CALSCALE:GREGORIAN
METHOD:PUBLISH
X-ORIGINAL-URL:https://petrasbar.com
X-WR-CALDESC:Events for Petra&#039;s Bar
REFRESH-INTERVAL;VALUE=DURATION:PT1H
X-Robots-Tag:noindex
X-PUBLISHED-TTL:PT1H
BEGIN:VTIMEZONE
TZID:America/New_York
BEGIN:DAYLIGHT
TZOFFSETFROM:-0500
TZOFFSETTO:-0400
TZNAME:EDT
DTSTART:20210314T070000
END:DAYLIGHT
BEGIN:STANDARD
TZOFFSETFROM:-0400
TZOFFSETTO:-0500
TZNAME:EST
DTSTART:20211107T060000
END:STANDARD
BEGIN:DAYLIGHT
TZOFFSETFROM:-0500
TZOFFSETTO:-0400
TZNAME:EDT
DTSTART:20220313T070000
END:DAYLIGHT
BEGIN:STANDARD
TZOFFSETFROM:-0400
TZOFFSETTO:-0500
TZNAME:EST
DTSTART:20221106T060000
END:STANDARD
BEGIN:DAYLIGHT
TZOFFSETFROM:-0500
TZOFFSETTO:-0400
TZNAME:EDT
DTSTART:20230312T070000
END:DAYLIGHT
BEGIN:STANDARD
TZOFFSETFROM:-0400
TZOFFSETTO:-0500
TZNAME:EST
DTSTART:20231105T060000
END:STANDARD
END:VTIMEZONE
BEGIN:VEVENT
DTSTART;TZID=America/New_York:20220624T200000
DTEND;TZID=America/New_York:20220624T200000
DTSTAMP:20260423T130710
CREATED:20220506T035616Z
LAST-MODIFIED:20220506T035757Z
UID:10001353-1656100800-1656100800@petrasbar.com
SUMMARY:Late Bloomer | Wes & The Railroaders | Evan Stepp | Merit Badge
DESCRIPTION:Friday\, June 24th\nDoors: 8pm | Show: 9pm\nTickets: $7 Advance | $10 Day Of\n• 21+ with valid ID \nLate Bloomer (former Pullman Strike)\nhttp://latebloomer.bandcamp.com/ \nWes & The Railroaders (former Pullman Strike)\nhttp://www.wesandtherailroaders.bandcamp.com/ \nEvan Stepp (former Pullman Strike)\nhttp://evansteppandthepiners.bandcamp.com/ \nMerit Badge (former Pullman Strike\, Canyoneros)
URL:https://petrasbar.com/event/late-bloomer-wes-the-railroaders-evan-stepp-merit-badge/
LOCATION:Petra’s\, 1919 Commonwealth Avenue\, Charlotte\, NC\, 28205\, United States
CATEGORIES:Featured,Live Music,Shows
GEO:35.2190645;-80.8125685
X-APPLE-STRUCTURED-LOCATION;VALUE=URI;X-ADDRESS=Petra’s 1919 Commonwealth Avenue Charlotte NC 28205 United States;X-APPLE-RADIUS=500;X-TITLE=1919 Commonwealth Avenue:geo:-80.8125685,35.2190645
END:VEVENT
END:VCALENDAR