BEGIN:VCALENDAR
VERSION:2.0
PRODID:-//Petra&#039;s Bar - ECPv6.15.20//NONSGML v1.0//EN
CALSCALE:GREGORIAN
METHOD:PUBLISH
X-ORIGINAL-URL:https://petrasbar.com
X-WR-CALDESC:Events for Petra&#039;s Bar
REFRESH-INTERVAL;VALUE=DURATION:PT1H
X-Robots-Tag:noindex
X-PUBLISHED-TTL:PT1H
BEGIN:VTIMEZONE
TZID:America/New_York
BEGIN:DAYLIGHT
TZOFFSETFROM:-0500
TZOFFSETTO:-0400
TZNAME:EDT
DTSTART:20220313T070000
END:DAYLIGHT
BEGIN:STANDARD
TZOFFSETFROM:-0400
TZOFFSETTO:-0500
TZNAME:EST
DTSTART:20221106T060000
END:STANDARD
BEGIN:DAYLIGHT
TZOFFSETFROM:-0500
TZOFFSETTO:-0400
TZNAME:EDT
DTSTART:20230312T070000
END:DAYLIGHT
BEGIN:STANDARD
TZOFFSETFROM:-0400
TZOFFSETTO:-0500
TZNAME:EST
DTSTART:20231105T060000
END:STANDARD
BEGIN:DAYLIGHT
TZOFFSETFROM:-0500
TZOFFSETTO:-0400
TZNAME:EDT
DTSTART:20240310T070000
END:DAYLIGHT
BEGIN:STANDARD
TZOFFSETFROM:-0400
TZOFFSETTO:-0500
TZNAME:EST
DTSTART:20241103T060000
END:STANDARD
END:VTIMEZONE
BEGIN:VEVENT
DTSTART;TZID=America/New_York:20231104T200000
DTEND;TZID=America/New_York:20231104T200000
DTSTAMP:20260422T101555
CREATED:20230915T160606Z
LAST-MODIFIED:20230915T160746Z
UID:10001579-1699128000-1699128000@petrasbar.com
SUMMARY:Kenzie Katlyn | Good Deal | Zachary King
DESCRIPTION:Doors: 8pm | Show: 9pm\nTickets: $7 Advance | $10 Day Of\n• 21+ with valid ID \n  \nKenzie Katlyn\nindie pop \nlinktr.ee/kenziekatlyn \n  \nGood Deal\nindie rock \nlinktr.ee/gooddealband \n  \nZachary King\nfolk \nyoutu.be/kbs8itel7dc
URL:https://petrasbar.com/event/kenzie-katlyn-good-deal-zachary-king/
LOCATION:Petra’s\, 1919 Commonwealth Avenue\, Charlotte\, NC\, 28205\, United States
CATEGORIES:Featured,Live Music,Shows
ATTACH;FMTTYPE=image/jpeg:https://petrasbar.com/wp-content/uploads/2023/09/d5c3a545fbea78aa465f29b161b49cf7-3pTf4I.tmp_.jpg
GEO:35.2190645;-80.8125685
X-APPLE-STRUCTURED-LOCATION;VALUE=URI;X-ADDRESS=Petra’s 1919 Commonwealth Avenue Charlotte NC 28205 United States;X-APPLE-RADIUS=500;X-TITLE=1919 Commonwealth Avenue:geo:-80.8125685,35.2190645
END:VEVENT
END:VCALENDAR