BEGIN:VCALENDAR
VERSION:2.0
PRODID:-//Petra&#039;s Bar - ECPv6.15.20//NONSGML v1.0//EN
CALSCALE:GREGORIAN
METHOD:PUBLISH
X-ORIGINAL-URL:https://petrasbar.com
X-WR-CALDESC:Events for Petra&#039;s Bar
REFRESH-INTERVAL;VALUE=DURATION:PT1H
X-Robots-Tag:noindex
X-PUBLISHED-TTL:PT1H
BEGIN:VTIMEZONE
TZID:America/New_York
BEGIN:DAYLIGHT
TZOFFSETFROM:-0500
TZOFFSETTO:-0400
TZNAME:EDT
DTSTART:20200308T070000
END:DAYLIGHT
BEGIN:STANDARD
TZOFFSETFROM:-0400
TZOFFSETTO:-0500
TZNAME:EST
DTSTART:20201101T060000
END:STANDARD
BEGIN:DAYLIGHT
TZOFFSETFROM:-0500
TZOFFSETTO:-0400
TZNAME:EDT
DTSTART:20210314T070000
END:DAYLIGHT
BEGIN:STANDARD
TZOFFSETFROM:-0400
TZOFFSETTO:-0500
TZNAME:EST
DTSTART:20211107T060000
END:STANDARD
BEGIN:DAYLIGHT
TZOFFSETFROM:-0500
TZOFFSETTO:-0400
TZNAME:EDT
DTSTART:20220313T070000
END:DAYLIGHT
BEGIN:STANDARD
TZOFFSETFROM:-0400
TZOFFSETTO:-0500
TZNAME:EST
DTSTART:20221106T060000
END:STANDARD
END:VTIMEZONE
BEGIN:VTIMEZONE
TZID:America/New_York
BEGIN:DAYLIGHT
TZOFFSETFROM:-0500
TZOFFSETTO:-0400
TZNAME:EDT
DTSTART:20200308T070000
END:DAYLIGHT
BEGIN:STANDARD
TZOFFSETFROM:-0400
TZOFFSETTO:-0500
TZNAME:EST
DTSTART:20201101T060000
END:STANDARD
BEGIN:DAYLIGHT
TZOFFSETFROM:-0500
TZOFFSETTO:-0400
TZNAME:EDT
DTSTART:20210314T070000
END:DAYLIGHT
BEGIN:STANDARD
TZOFFSETFROM:-0400
TZOFFSETTO:-0500
TZNAME:EST
DTSTART:20211107T060000
END:STANDARD
BEGIN:DAYLIGHT
TZOFFSETFROM:-0500
TZOFFSETTO:-0400
TZNAME:EDT
DTSTART:20220313T070000
END:DAYLIGHT
BEGIN:STANDARD
TZOFFSETFROM:-0400
TZOFFSETTO:-0500
TZNAME:EST
DTSTART:20221106T060000
END:STANDARD
END:VTIMEZONE
BEGIN:VEVENT
DTSTART;TZID=America/New_York:20210919T160000
DTEND;TZID=America/New_York:20210919T210000
DTSTAMP:20260419T112418
CREATED:20250806T153405Z
LAST-MODIFIED:20250806T153405Z
UID:10000964-1632067200-1632085200@petrasbar.com
SUMMARY:Hazy Sunday
DESCRIPTION:Highly curated. \nCharlotte’s best day party is on our back patio every 1st\, 3rd\, and 5th Sunday with Probably Will and Ray Krol. \n4pm – 9pm\n$10 at the door (enter via the alley)\n21+ with valid ID
URL:https://petrasbar.com/event/hazy-sunday/2021-09-19/
LOCATION:Petra’s\, 1919 Commonwealth Avenue\, Charlotte\, NC\, 28205\, United States
CATEGORIES:Dance,Featured,Live Music
ATTACH;FMTTYPE=image/jpeg:https://petrasbar.com/wp-content/uploads/2021/06/depositphotos_336300516-stock-photo-palm-trees-psychedelic-sky-background.jpeg
END:VEVENT
BEGIN:VEVENT
DTSTART;TZID=America/New_York:20210918T200000
DTEND;TZID=America/New_York:20210918T200000
DTSTAMP:20260419T112418
CREATED:20210823T233340Z
LAST-MODIFIED:20210823T233340Z
UID:10001077-1631995200-1631995200@petrasbar.com
SUMMARY:Release 7 Year Anniversary
DESCRIPTION:Saturday\, September 18th\nDoors: 8pm | Party: 9pm\nTickets: $10 Before 11pm | $20 After\n21+ \nRelease 7 Year Anniversary with legendary DJ Gary Wallace Birthday Bash (Virgo Celebration) Vibes by Chosen Few Dj’s Wayne Williams & Terry Hunter Deephouse Providers and other guests. \n  \n*Petra’s is a private club. You MUST have a valid ID to enter. Please be expected to pay a $1 annual fee if you are not already a member with us.
URL:https://petrasbar.com/event/release-7-year-anniversary/
LOCATION:Petra’s\, 1919 Commonwealth Avenue\, Charlotte\, NC\, 28205\, United States
CATEGORIES:Dance,Featured,Live Music,Shows
ATTACH;FMTTYPE=image/jpeg:https://petrasbar.com/wp-content/uploads/2021/08/Release-9.18-1.jpeg
END:VEVENT
BEGIN:VEVENT
DTSTART;TZID=America/New_York:20210905T160000
DTEND;TZID=America/New_York:20210905T210000
DTSTAMP:20260419T112418
CREATED:20210627T185147Z
LAST-MODIFIED:20250123T175231Z
UID:10000893-1630857600-1630875600@petrasbar.com
SUMMARY:Hazy Sunday
DESCRIPTION:Highly curated. \nCharlotte’s best day party is on our back patio every 1st\, 3rd\, and 5th Sunday with Probably Will and Ray Krol. \n4pm – 9pm\n$10 at the door (enter via the alley)\n21+ with valid ID
URL:https://petrasbar.com/event/hazy-sunday/2021-09-05/
LOCATION:Petra’s\, 1919 Commonwealth Avenue\, Charlotte\, NC\, 28205\, United States
CATEGORIES:Dance,Featured,Live Music
ATTACH;FMTTYPE=image/jpeg:https://petrasbar.com/wp-content/uploads/2021/06/depositphotos_336300516-stock-photo-palm-trees-psychedelic-sky-background.jpeg
END:VEVENT
BEGIN:VEVENT
DTSTART;TZID=America/New_York:20210903T200000
DTEND;TZID=America/New_York:20210903T200000
DTSTAMP:20260419T112418
CREATED:20210827T180947Z
LAST-MODIFIED:20210827T181740Z
UID:10001079-1630699200-1630699200@petrasbar.com
SUMMARY:Priority Mail: A Sticker Art Show
DESCRIPTION:Friday\, September 3rd\nDoors: 8pm | Show: 9pm\nTickets: $7 Advance | $10 Day Of\n21+ with Valid ID + Proof of Vaccination \nPriority Mail is a sticker art show featuring Simon SMTHNG\, Zodiac Lovers\, FLLS\, plus DJ Shawn Lynch providing rock and soul grooves in the back patio. \n  \n*Petra’s is a private club. You MUST have a valid ID to enter. Please be expected to pay a $1 annual fee if you are not already a member with us.
URL:https://petrasbar.com/event/priority-mail-a-sticker-art-show/
LOCATION:Petra’s\, 1919 Commonwealth Avenue\, Charlotte\, NC\, 28205\, United States
CATEGORIES:Dance,Featured,Gallery Opening,Live Music,Shows
ATTACH;FMTTYPE=image/jpeg:https://petrasbar.com/wp-content/uploads/2021/08/PRIORITY_INSTAGRAM.jpeg
GEO:35.2190645;-80.8125685
X-APPLE-STRUCTURED-LOCATION;VALUE=URI;X-ADDRESS=Petra’s 1919 Commonwealth Avenue Charlotte NC 28205 United States;X-APPLE-RADIUS=500;X-TITLE=1919 Commonwealth Avenue:geo:-80.8125685,35.2190645
END:VEVENT
BEGIN:VEVENT
DTSTART;TZID=America/New_York:20210829T160000
DTEND;TZID=America/New_York:20210829T210000
DTSTAMP:20260419T112418
CREATED:20250806T153407Z
LAST-MODIFIED:20250806T153407Z
UID:10001059-1630252800-1630270800@petrasbar.com
SUMMARY:Hazy Sunday
DESCRIPTION:Highly curated. \nCharlotte’s best day party is on our back patio every 1st\, 3rd\, and 5th Sunday with Probably Will and Ray Krol. \n4pm – 9pm\n$10 at the door (enter via the alley)\n21+ with valid ID
URL:https://petrasbar.com/event/hazy-sunday/2021-08-29/
LOCATION:Petra’s\, 1919 Commonwealth Avenue\, Charlotte\, NC\, 28205\, United States
CATEGORIES:Dance,Featured,Live Music
ATTACH;FMTTYPE=image/jpeg:https://petrasbar.com/wp-content/uploads/2021/06/depositphotos_336300516-stock-photo-palm-trees-psychedelic-sky-background.jpeg
END:VEVENT
BEGIN:VEVENT
DTSTART;TZID=America/New_York:20210829T160000
DTEND;TZID=America/New_York:20210829T210000
DTSTAMP:20260419T112418
CREATED:20250806T153406Z
LAST-MODIFIED:20250806T153406Z
UID:10001035-1630252800-1630270800@petrasbar.com
SUMMARY:Hazy Sunday
DESCRIPTION:Highly curated. \nCharlotte’s best day party is on our back patio every 1st\, 3rd\, and 5th Sunday with Probably Will and Ray Krol. \n4pm – 9pm\n$10 at the door (enter via the alley)\n21+ with valid ID
URL:https://petrasbar.com/event/hazy-sunday/2021-08-29/
LOCATION:Petra’s\, 1919 Commonwealth Avenue\, Charlotte\, NC\, 28205\, United States
CATEGORIES:Dance,Featured,Live Music
ATTACH;FMTTYPE=image/jpeg:https://petrasbar.com/wp-content/uploads/2021/06/depositphotos_336300516-stock-photo-palm-trees-psychedelic-sky-background.jpeg
END:VEVENT
BEGIN:VEVENT
DTSTART;TZID=America/New_York:20210829T160000
DTEND;TZID=America/New_York:20210829T210000
DTSTAMP:20260419T112418
CREATED:20210721T132725Z
LAST-MODIFIED:20210820T022611Z
UID:10001084-1630252800-1630270800@petrasbar.com
SUMMARY:Blow Your Head: Sunday School Edition
DESCRIPTION:Sunday\, August 29th and Sept 26th\n4pm-9pm \nTickets: $5\n21+ \n(Enter Via Alley) \nFlock of Slagles + Jah Freedom + special guests serve up the best boogie\, disco\, funk\, rare-groove & so much more for your dancing pleasure. \nBack Patio Day Party! \n  \n*Petra’s is a private club. You MUST have a valid ID to enter. Please be expected to pay a $1 annual fee if you are not already a member with us.
URL:https://petrasbar.com/event/blow-your-head-sunday-school-edition/2021-08-29/
LOCATION:Petra’s\, 1919 Commonwealth Avenue\, Charlotte\, NC\, 28205\, United States
CATEGORIES:Dance,Featured,Live Music,Shows
ATTACH;FMTTYPE=image/png:https://petrasbar.com/wp-content/uploads/2021/07/Blow-Your-Head.png
END:VEVENT
BEGIN:VEVENT
DTSTART;TZID=America/New_York:20210824T190000
DTEND;TZID=America/New_York:20210824T190000
DTSTAMP:20260419T112418
CREATED:20210618T122319Z
LAST-MODIFIED:20210820T024237Z
UID:10001296-1629831600-1629831600@petrasbar.com
SUMMARY:Lost Cargo: Aloha Nui Loa Edition
DESCRIPTION:Welcome back to Lost Cargo: Tiki Social Club\n\nBe transported to a time and space far away\, every 4th Tuesday. Our taproom transforms into a Tiki destination\, Exotica sounds provided by Bo White with a special menu of handcrafted tropical drinks by @martamoons\n\nDress your Tiki best!\n\nAsk us how to become a Lost Cargo member to receive a special enamel pin and deals on specialty tiki cocktails.\nGet lost with us at Petra’s back patio (enter through back alley).\n\nEvery. 4th. Tuesday….\n7p-11p\nNo Cover\n21+\n\nIG @getlostcargo\nFB @LostCargoTikiSocial\nCover photo by @shootbt\n\n#tiki #tikiparty #exotica
URL:https://petrasbar.com/event/27081/
LOCATION:Petra’s\, 1919 Commonwealth Avenue\, Charlotte\, NC\, 28205\, United States
CATEGORIES:Dance,Featured,Live Music,Shows
ATTACH;FMTTYPE=image/jpeg:https://petrasbar.com/wp-content/uploads/2021/06/tiki-babe.jpeg
END:VEVENT
BEGIN:VEVENT
DTSTART;TZID=America/New_York:20210815T160000
DTEND;TZID=America/New_York:20210815T210000
DTSTAMP:20260419T112418
CREATED:20250806T153405Z
LAST-MODIFIED:20250806T153405Z
UID:10000963-1629043200-1629061200@petrasbar.com
SUMMARY:Hazy Sunday
DESCRIPTION:Highly curated. \nCharlotte’s best day party is on our back patio every 1st\, 3rd\, and 5th Sunday with Probably Will and Ray Krol. \n4pm – 9pm\n$10 at the door (enter via the alley)\n21+ with valid ID
URL:https://petrasbar.com/event/hazy-sunday/2021-08-15/
LOCATION:Petra’s\, 1919 Commonwealth Avenue\, Charlotte\, NC\, 28205\, United States
CATEGORIES:Dance,Featured,Live Music
ATTACH;FMTTYPE=image/jpeg:https://petrasbar.com/wp-content/uploads/2021/06/depositphotos_336300516-stock-photo-palm-trees-psychedelic-sky-background.jpeg
END:VEVENT
BEGIN:VEVENT
DTSTART;TZID=America/New_York:20210814T200000
DTEND;TZID=America/New_York:20210814T200000
DTSTAMP:20260419T112418
CREATED:20210705T181509Z
LAST-MODIFIED:20210705T181509Z
UID:10000517-1628971200-1628971200@petrasbar.com
SUMMARY:Julio's NSFW Birthday Takevover
DESCRIPTION:Saturday\, August 14th\nDoors: 8pm | Party: 9pm\nTickets: $7 at the door\n21+\n\nWe’re celebrating another trip around the sun for Julio with some help from\nRyan Persaud\nDJ RIOCRUZ\nJuliotheMexican\nClaudio Rafael\n\n\n*Petra’s is a private club. You MUST have a valid ID to enter. Please be expected to pay a $1 annual fee if you are not already a member with us.
URL:https://petrasbar.com/event/julios-nsfw-birthday-takevover/
LOCATION:Petra’s\, 1919 Commonwealth Avenue\, Charlotte\, NC\, 28205\, United States
CATEGORIES:Dance,Featured
ATTACH;FMTTYPE=image/png:https://petrasbar.com/wp-content/uploads/2021/07/NSFW.png
END:VEVENT
BEGIN:VEVENT
DTSTART;TZID=America/New_York:20210801T160000
DTEND;TZID=America/New_York:20210801T210000
DTSTAMP:20260419T112418
CREATED:20210627T185147Z
LAST-MODIFIED:20250123T175231Z
UID:10000892-1627833600-1627851600@petrasbar.com
SUMMARY:Hazy Sunday
DESCRIPTION:Highly curated. \nCharlotte’s best day party is on our back patio every 1st\, 3rd\, and 5th Sunday with Probably Will and Ray Krol. \n4pm – 9pm\n$10 at the door (enter via the alley)\n21+ with valid ID
URL:https://petrasbar.com/event/hazy-sunday/2021-08-01/
LOCATION:Petra’s\, 1919 Commonwealth Avenue\, Charlotte\, NC\, 28205\, United States
CATEGORIES:Dance,Featured,Live Music
ATTACH;FMTTYPE=image/jpeg:https://petrasbar.com/wp-content/uploads/2021/06/depositphotos_336300516-stock-photo-palm-trees-psychedelic-sky-background.jpeg
END:VEVENT
END:VCALENDAR