BEGIN:VCALENDAR
VERSION:2.0
PRODID:-//Petra&#039;s Bar - ECPv6.15.20//NONSGML v1.0//EN
CALSCALE:GREGORIAN
METHOD:PUBLISH
X-ORIGINAL-URL:https://petrasbar.com
X-WR-CALDESC:Events for Petra&#039;s Bar
REFRESH-INTERVAL;VALUE=DURATION:PT1H
X-Robots-Tag:noindex
X-PUBLISHED-TTL:PT1H
BEGIN:VTIMEZONE
TZID:America/New_York
BEGIN:DAYLIGHT
TZOFFSETFROM:-0500
TZOFFSETTO:-0400
TZNAME:EDT
DTSTART:20220313T070000
END:DAYLIGHT
BEGIN:STANDARD
TZOFFSETFROM:-0400
TZOFFSETTO:-0500
TZNAME:EST
DTSTART:20221106T060000
END:STANDARD
BEGIN:DAYLIGHT
TZOFFSETFROM:-0500
TZOFFSETTO:-0400
TZNAME:EDT
DTSTART:20230312T070000
END:DAYLIGHT
BEGIN:STANDARD
TZOFFSETFROM:-0400
TZOFFSETTO:-0500
TZNAME:EST
DTSTART:20231105T060000
END:STANDARD
BEGIN:DAYLIGHT
TZOFFSETFROM:-0500
TZOFFSETTO:-0400
TZNAME:EDT
DTSTART:20240310T070000
END:DAYLIGHT
BEGIN:STANDARD
TZOFFSETFROM:-0400
TZOFFSETTO:-0500
TZNAME:EST
DTSTART:20241103T060000
END:STANDARD
END:VTIMEZONE
BEGIN:VTIMEZONE
TZID:America/New_York
BEGIN:DAYLIGHT
TZOFFSETFROM:-0500
TZOFFSETTO:-0400
TZNAME:EDT
DTSTART:20220313T070000
END:DAYLIGHT
BEGIN:STANDARD
TZOFFSETFROM:-0400
TZOFFSETTO:-0500
TZNAME:EST
DTSTART:20221106T060000
END:STANDARD
BEGIN:DAYLIGHT
TZOFFSETFROM:-0500
TZOFFSETTO:-0400
TZNAME:EDT
DTSTART:20230312T070000
END:DAYLIGHT
BEGIN:STANDARD
TZOFFSETFROM:-0400
TZOFFSETTO:-0500
TZNAME:EST
DTSTART:20231105T060000
END:STANDARD
BEGIN:DAYLIGHT
TZOFFSETFROM:-0500
TZOFFSETTO:-0400
TZNAME:EDT
DTSTART:20240310T070000
END:DAYLIGHT
BEGIN:STANDARD
TZOFFSETFROM:-0400
TZOFFSETTO:-0500
TZNAME:EST
DTSTART:20241103T060000
END:STANDARD
END:VTIMEZONE
BEGIN:VEVENT
DTSTART;TZID=America/New_York:20230901T200000
DTEND;TZID=America/New_York:20230901T200000
DTSTAMP:20260420T151930
CREATED:20230823T193607Z
LAST-MODIFIED:20230823T193740Z
UID:10001544-1693598400-1693598400@petrasbar.com
SUMMARY:WRLD KEEPS TURNING: An Art Show
DESCRIPTION:Doors: 8pm | Show: 9pm\nTickets: $7 Advance | $10 Day Of\n• 21+ with valid ID \n  \nWRLD KEEPS TURNING 🌎🌍🌏\nIt’s a @phazegawd704 curated gallery takeover: a view into the modern moods and moves of these working Charlotte artists & performers. Earth is in peril – and it’s a mad wrld – but we must continue to create and exchange energy. Let’s get together and keep it moving. \n  \nArt by\n@bando.kicks \n@nome_three0five \n@mimifabulow \n@6jam_i_am \n@phazegawd704 \n@najialalii \n@tony.wavy \n+ more \n  \nPerformances by\n@phazegawd704 \n@psy.kof \n@yacomane \n@electrobro_o \n+ a back patio DJ set by @djtoast.clt
URL:https://petrasbar.com/event/wrld-keeps-turning-an-art-show/
LOCATION:Petra’s\, 1919 Commonwealth Avenue\, Charlotte\, NC\, 28205\, United States
CATEGORIES:Featured,Gallery Opening,Live Music,Shows
ATTACH;FMTTYPE=image/jpeg:https://petrasbar.com/wp-content/uploads/2023/08/3524b7c6577005c998492d371b0e0ac2-vzrOO8.tmp_.jpg
GEO:35.2190645;-80.8125685
X-APPLE-STRUCTURED-LOCATION;VALUE=URI;X-ADDRESS=Petra’s 1919 Commonwealth Avenue Charlotte NC 28205 United States;X-APPLE-RADIUS=500;X-TITLE=1919 Commonwealth Avenue:geo:-80.8125685,35.2190645
END:VEVENT
BEGIN:VEVENT
DTSTART;TZID=America/New_York:20230902T200000
DTEND;TZID=America/New_York:20230902T200000
DTSTAMP:20260420T151930
CREATED:20230731T174712Z
LAST-MODIFIED:20230731T174924Z
UID:10001533-1693684800-1693684800@petrasbar.com
SUMMARY:Willingdon | Ambyr | Lynsea
DESCRIPTION:Showtime @ 9pm\nTickets: $7 Advance | $10 Day Of\n• 21+ with valid ID \n  \nWillingdon\nformer bunk bed neighbors band from charlotte\, nc \nlinktr.ee/Willingdon \n  \nAmbyr\nPop \nhttps://linktr.ee/imambyr \n  \nLynsea\nSinger songwriter \nlinktr.ee/imlynsea
URL:https://petrasbar.com/event/willingdon-ambyr-lynsea-2/
LOCATION:Petra’s\, 1919 Commonwealth Avenue\, Charlotte\, NC\, 28205\, United States
CATEGORIES:Featured,Live Music,Shows
ATTACH;FMTTYPE=image/jpeg:https://petrasbar.com/wp-content/uploads/2023/07/f498b82177d18289cf1baeee87e98740-fYjNRO.tmp_.jpg
GEO:35.2190645;-80.8125685
X-APPLE-STRUCTURED-LOCATION;VALUE=URI;X-ADDRESS=Petra’s 1919 Commonwealth Avenue Charlotte NC 28205 United States;X-APPLE-RADIUS=500;X-TITLE=1919 Commonwealth Avenue:geo:-80.8125685,35.2190645
END:VEVENT
BEGIN:VEVENT
DTSTART;TZID=America/New_York:20230903T160000
DTEND;TZID=America/New_York:20230903T210000
DTSTAMP:20260420T151930
CREATED:20210627T185147Z
LAST-MODIFIED:20250123T175231Z
UID:10000915-1693756800-1693774800@petrasbar.com
SUMMARY:Hazy Sunday
DESCRIPTION:Highly curated. \nCharlotte’s best day party is on our back patio every 1st\, 3rd\, and 5th Sunday with Probably Will and Ray Krol. \n4pm – 9pm\n$10 at the door (enter via the alley)\n21+ with valid ID
URL:https://petrasbar.com/event/hazy-sunday/2023-09-03/
LOCATION:Petra’s\, 1919 Commonwealth Avenue\, Charlotte\, NC\, 28205\, United States
CATEGORIES:Dance,Featured,Live Music
ATTACH;FMTTYPE=image/jpeg:https://petrasbar.com/wp-content/uploads/2021/06/depositphotos_336300516-stock-photo-palm-trees-psychedelic-sky-background.jpeg
END:VEVENT
BEGIN:VEVENT
DTSTART;TZID=America/New_York:20230905T190000
DTEND;TZID=America/New_York:20230905T190000
DTSTAMP:20260420T151930
CREATED:20210628T195539Z
LAST-MODIFIED:20230202T153934Z
UID:10000129-1693940400-1693940400@petrasbar.com
SUMMARY:Piano Karaoke & Sing Along with Ryan Stamey
DESCRIPTION:Every 1st Tuesday! \nPick a song\, grab the Mic\, and host Ryan Stamey will accompany you on piano while you take the stage! Come grab a drink\, sing your heart out\, make requests\, or just sit back\, relax and enjoy the show! \n8pm-11pm\n7:30 Signup\n$5 At The Door\n21+ with valid ID
URL:https://petrasbar.com/event/piano-karaoke-sing-along-with-ryan-stamey/2023-09-05/
LOCATION:Petra’s\, 1919 Commonwealth Avenue\, Charlotte\, NC\, 28205\, United States
CATEGORIES:Featured,Karaoke,Live Music,Shows
ATTACH;FMTTYPE=image/jpeg:https://petrasbar.com/wp-content/uploads/2021/06/the-tropical-piano-cesar-chavez-018796f6.jpeg
END:VEVENT
BEGIN:VEVENT
DTSTART;TZID=America/New_York:20230907T200000
DTEND;TZID=America/New_York:20230907T200000
DTSTAMP:20260420T151930
CREATED:20230822T180801Z
LAST-MODIFIED:20230822T183755Z
UID:10001540-1694116800-1694116800@petrasbar.com
SUMMARY:Joseph Mathis | Eli Winter | Mark Mathis
DESCRIPTION:Doors at 8 | Show at 9\nTickets: $7 Advance | $10 Day Of\n• 21 + with valid ID \n  \nJoseph Mathis\nhttps://hyperfollow.com/josephmathis \n  \nEli Winter\nhttps://linktr.ee/eliwinter \n  \nMark Mathis\n(Of Public Radio)
URL:https://petrasbar.com/event/joseph-mathis-eli-winter-mark-mathis/
LOCATION:Petra’s\, 1919 Commonwealth Avenue\, Charlotte\, NC\, 28205\, United States
CATEGORIES:Featured,Live Music,Shows
ATTACH;FMTTYPE=image/jpeg:https://petrasbar.com/wp-content/uploads/2023/08/25f93507d242f63de4c66c040c0f18a2-GyVjhJ.tmp_.jpg
GEO:35.2190645;-80.8125685
X-APPLE-STRUCTURED-LOCATION;VALUE=URI;X-ADDRESS=Petra’s 1919 Commonwealth Avenue Charlotte NC 28205 United States;X-APPLE-RADIUS=500;X-TITLE=1919 Commonwealth Avenue:geo:-80.8125685,35.2190645
END:VEVENT
BEGIN:VEVENT
DTSTART;TZID=America/New_York:20230908T200000
DTEND;TZID=America/New_York:20230908T200000
DTSTAMP:20260420T151930
CREATED:20230814T183403Z
LAST-MODIFIED:20230814T183403Z
UID:10001538-1694203200-1694203200@petrasbar.com
SUMMARY:Azul presents: Divas\, Dolls\, & Disco
DESCRIPTION:Show @ 9p\n$7 Advance | $10 Day Of\n• 21+ with valid ID \n  \nAzul\nAzul is a queer Latinx musician that oscillates from tender moments of grief and love to disco dance bops\, music numbers on betrayal\, and the stress of living in our modern world. Oh and sometimes it is in Spanish. She sings and plays trumpet with her best friends and her goal is to always connect with her listeners. \nAfter releasing her debut original EP in 2021 “The View From Here\,” Azul has played all over NC and opened for several nationally touring acts. The INDY Week said about her debut single\, “Magic\,” “Magic” feels like a true pop song—lush\, catchy\, persuasive\, and full of the kind of pent-up drama that makes the quest for greater belief and optimism feel fresh. Zapata’s voice is bold and reaching; this is a single with the thrill of a big beginning.” \nhttps://www.azulzapata.com/
URL:https://petrasbar.com/event/azul-presents-divas-dolls-disco/
LOCATION:Petra’s\, 1919 Commonwealth Avenue\, Charlotte\, NC\, 28205\, United States
CATEGORIES:Featured,Live Music,Shows
ATTACH;FMTTYPE=image/jpeg:https://petrasbar.com/wp-content/uploads/2023/08/Sept-8-scaled.jpeg
END:VEVENT
BEGIN:VEVENT
DTSTART;TZID=America/New_York:20230909T200000
DTEND;TZID=America/New_York:20230909T200000
DTSTAMP:20260420T151930
CREATED:20230804T002039Z
LAST-MODIFIED:20230814T182019Z
UID:10001534-1694289600-1694289600@petrasbar.com
SUMMARY:Pet Bug | The Orderlys | SWAE
DESCRIPTION:Showtime @ 9pm\nTickets: $7 Advance | $10 Day Of\n• 21+ with valid ID \n  \nPet Bug\n(members of The Mother Superior\, The Mineral Girls\, Gun Jr.\, Hiram\, The Real Dolls\, DOZR\, Gravewaves\, Futurists\, Ol’ Sport & ModernEverything.) \nhttps://www.instagram.com/petbugmuzk/ \n  \nThe Orderlys\nhttps://www.instagram.com/theorderlys/ \n  \nSWAE\nhttps://open.spotify.com/track/32dYWJtA8didXZU2FuoALW
URL:https://petrasbar.com/event/pet-bug-the-orderlys-jackson-fig/
LOCATION:Petra’s\, 1919 Commonwealth Avenue\, Charlotte\, NC\, 28205\, United States
CATEGORIES:Featured,Live Music,Shows
ATTACH;FMTTYPE=image/jpeg:https://petrasbar.com/wp-content/uploads/2023/08/67190c7b503689d8e4121adbade147de-ketrn9.tmp_.jpg
GEO:35.2190645;-80.8125685
X-APPLE-STRUCTURED-LOCATION;VALUE=URI;X-ADDRESS=Petra’s 1919 Commonwealth Avenue Charlotte NC 28205 United States;X-APPLE-RADIUS=500;X-TITLE=1919 Commonwealth Avenue:geo:-80.8125685,35.2190645
END:VEVENT
BEGIN:VEVENT
DTSTART;TZID=America/New_York:20230912T190000
DTEND;TZID=America/New_York:20230912T190000
DTSTAMP:20260420T151930
CREATED:20230829T014102Z
LAST-MODIFIED:20230902T133930Z
UID:10001547-1694545200-1694545200@petrasbar.com
SUMMARY:Tutu Tuesday Tonight Show
DESCRIPTION:The kind folks from Tutu Tuesdays are bringing their tutus with them over to Petra’s for a special tutu talent show. \nShow at 8p \n$5 suggested \n21+
URL:https://petrasbar.com/event/tutu-tuesday-talent-show/
LOCATION:Petra’s\, 1919 Commonwealth Avenue\, Charlotte\, NC\, 28205\, United States
CATEGORIES:Featured,Live Music,Open Mic
ATTACH;FMTTYPE=image/jpeg:https://petrasbar.com/wp-content/uploads/2023/08/372578719_1676818502829832_7252292251637852369_n.jpeg
END:VEVENT
BEGIN:VEVENT
DTSTART;TZID=America/New_York:20230914T190000
DTEND;TZID=America/New_York:20230914T190000
DTSTAMP:20260420T151930
CREATED:20230823T195918Z
LAST-MODIFIED:20230823T195918Z
UID:10001545-1694718000-1694718000@petrasbar.com
SUMMARY:Petra's Turns 16!
DESCRIPTION:Come celebrate with @martamoons providing all the tunes while @perrydactyls provides the libations. \n7pm until \n21+
URL:https://petrasbar.com/event/petras-turns-16/
LOCATION:Petra’s\, 1919 Commonwealth Avenue\, Charlotte\, NC\, 28205\, United States
CATEGORIES:Dance,Featured
ATTACH;FMTTYPE=image/jpeg:https://petrasbar.com/wp-content/uploads/2023/08/petras-knife-final-scaled.jpeg
END:VEVENT
BEGIN:VEVENT
DTSTART;TZID=America/New_York:20230915T200000
DTEND;TZID=America/New_York:20230915T200000
DTSTAMP:20260420T151930
CREATED:20230816T233827Z
LAST-MODIFIED:20230816T234120Z
UID:10001539-1694808000-1694808000@petrasbar.com
SUMMARY:Distracted Eyes | The Great Indoors | Quinn Rash
DESCRIPTION:Showtime @ 9pm!\nTickets: $7 Advance | $10 Advance\n• 21+ with valid ID \n  \nDistracted Eyes\nDebut solo project of Mary Grace McKusick (Petrov) \nhttps://www.instagram.com/distractedeyes/ \n  \nThe Great Indoors\nIndoor/Outdoor Rock \nhttps://www.instagram.com/thegreatindoorsband/ \n  \nQuinn Rash\nexperimental / punk / dance \nhttps://quinnrash.bandcamp.com/track/exhausted
URL:https://petrasbar.com/event/distracted-eyes-the-great-indoors-quinn-rash/
LOCATION:Petra’s\, 1919 Commonwealth Avenue\, Charlotte\, NC\, 28205\, United States
CATEGORIES:Featured,Live Music,Shows
ATTACH;FMTTYPE=image/jpeg:https://petrasbar.com/wp-content/uploads/2023/08/4f90bcf9da133a6b0fdc836ec61ae4b4-htwtKB.tmp_.jpg
GEO:35.2190645;-80.8125685
X-APPLE-STRUCTURED-LOCATION;VALUE=URI;X-ADDRESS=Petra’s 1919 Commonwealth Avenue Charlotte NC 28205 United States;X-APPLE-RADIUS=500;X-TITLE=1919 Commonwealth Avenue:geo:-80.8125685,35.2190645
END:VEVENT
BEGIN:VEVENT
DTSTART;TZID=America/New_York:20230917T160000
DTEND;TZID=America/New_York:20230917T210000
DTSTAMP:20260420T151930
CREATED:20250806T153405Z
LAST-MODIFIED:20250806T153405Z
UID:10000988-1694966400-1694984400@petrasbar.com
SUMMARY:Hazy Sunday
DESCRIPTION:Highly curated. \nCharlotte’s best day party is on our back patio every 1st\, 3rd\, and 5th Sunday with Probably Will and Ray Krol. \n4pm – 9pm\n$10 at the door (enter via the alley)\n21+ with valid ID
URL:https://petrasbar.com/event/hazy-sunday/2023-09-17/
LOCATION:Petra’s\, 1919 Commonwealth Avenue\, Charlotte\, NC\, 28205\, United States
CATEGORIES:Dance,Featured,Live Music
ATTACH;FMTTYPE=image/jpeg:https://petrasbar.com/wp-content/uploads/2021/06/depositphotos_336300516-stock-photo-palm-trees-psychedelic-sky-background.jpeg
END:VEVENT
BEGIN:VEVENT
DTSTART;TZID=America/New_York:20230921T190000
DTEND;TZID=America/New_York:20230921T190000
DTSTAMP:20260420T151930
CREATED:20230831T151338Z
LAST-MODIFIED:20230831T151527Z
UID:10001549-1695322800-1695322800@petrasbar.com
SUMMARY:Sam On Someday
DESCRIPTION:Doors: 7pm | Show: 8pm\nTickets: $10 Advanced | $12 Day Of\nMusician Discount Tickets: $8 – (use code CLTfam)\n• 21+ with valid ID \n  \nSam on Someday\nSam on Someday is an ongoing live music series hosted by Time Sawyer’s Sam Tayloe that brings together diverse songwriters and musicians in collaborative performances. The show always shines a spotlight on songwriting\, whether it’s freshly minted songs by local songwriters\, or favorite covers. \nMusical guests include fan favorites from the Charlotte and North Carolina music community\, as well as touring bands and artists. \nEach Sam on Someday is a unique\, one-time-only event that is not to be missed. It’s a genre-busting experience where a rapper\, a banjo player\, a folk singer\, a violinist and a blues guitarist might share the stage and create something completely new together. \nThe project started as a weekly livestream every Sunday during the pandemic but has since grown and flourished as live events at some of Charlotte’s great music venues. Now it can show up anywhere and anytime\, so “Sam on Sunday” has become “Sam on Someday.” \nBut one thing hasn’t changed: Sam on Someday is still a way to reconnect with live music and with friends in an intimate setting. It’s a warm and welcoming celebration of Charlotte’s music scene. \nThrough his full band vehicle\, Time Sawyer\, Sam Tayloe blends a grassroots feel with heart-felt lyrics. From introspective ballads to high-energy crowd-pleasers\, Time Sawyer’s songs land in that rootsy sweet spot where folk\, alt-country and rock gather for a good time.
URL:https://petrasbar.com/event/sam-on-someday-2/
LOCATION:Petra’s\, 1919 Commonwealth Avenue\, Charlotte\, NC\, 28205\, United States
CATEGORIES:Featured,Live Music,Shows
ATTACH;FMTTYPE=image/jpeg:https://petrasbar.com/wp-content/uploads/2023/08/ceb864b309b5f178e9df0fc2a458b949-reWeYM.tmp_.jpg
GEO:35.2190645;-80.8125685
X-APPLE-STRUCTURED-LOCATION;VALUE=URI;X-ADDRESS=Petra’s 1919 Commonwealth Avenue Charlotte NC 28205 United States;X-APPLE-RADIUS=500;X-TITLE=1919 Commonwealth Avenue:geo:-80.8125685,35.2190645
END:VEVENT
BEGIN:VEVENT
DTSTART;TZID=America/New_York:20230922T200000
DTEND;TZID=America/New_York:20230922T200000
DTSTAMP:20260420T151930
CREATED:20230822T183831Z
LAST-MODIFIED:20230822T184152Z
UID:10001541-1695412800-1695412800@petrasbar.com
SUMMARY:WALT | 3amsound | Jooselord | NunAfterHours | Matty | DJ Toast
DESCRIPTION:Show @ 9pm\nTickets: $7 Advance | $10 Day Of\n• 21+ with valid ID\n\nWALT presents 4 The Race special guests 3amsound\, Jooselord\, NunAfterHours\, Matty\, and DJ Toast
URL:https://petrasbar.com/event/walt-3amsound-jooselord-nunafterhours-matty-dj-toast/
LOCATION:Petra’s\, 1919 Commonwealth Avenue\, Charlotte\, NC\, 28205\, United States
CATEGORIES:Featured,Live Music,Shows
ATTACH;FMTTYPE=image/jpeg:https://petrasbar.com/wp-content/uploads/2023/08/b4750ed391aac40d92964bc1a82034f4-V28U8a.tmp_.jpg
GEO:35.2190645;-80.8125685
X-APPLE-STRUCTURED-LOCATION;VALUE=URI;X-ADDRESS=Petra’s 1919 Commonwealth Avenue Charlotte NC 28205 United States;X-APPLE-RADIUS=500;X-TITLE=1919 Commonwealth Avenue:geo:-80.8125685,35.2190645
END:VEVENT
BEGIN:VEVENT
DTSTART;TZID=America/New_York:20230923T200000
DTEND;TZID=America/New_York:20230923T200000
DTSTAMP:20260420T151930
CREATED:20230831T145648Z
LAST-MODIFIED:20230831T145849Z
UID:10001548-1695499200-1695499200@petrasbar.com
SUMMARY:Alan Charmer | La Brava | Dr MoFo
DESCRIPTION:Show at 9pm!\nTickets: $7 Advance | $10 Day Of\n• 21+ with valid ID \n  \nAlan Charmer\nhttps://linktr.ee/alancharmer \n  \nLa Brava\nhttps://linktr.ee/LizasLinks \n  \nDr MoFo\nhttps://www.instagram.com/doctor.mofo
URL:https://petrasbar.com/event/alan-charmer-la-brava-dr-mofo-2/
LOCATION:Petra’s\, 1919 Commonwealth Avenue\, Charlotte\, NC\, 28205\, United States
CATEGORIES:Dance,Featured,Live Music,Shows,Theatre
ATTACH;FMTTYPE=image/jpeg:https://petrasbar.com/wp-content/uploads/2023/08/b5b72fa51e7172762fa3c1f647ba92e7-p7HbKz.tmp_.jpg
GEO:35.2190645;-80.8125685
X-APPLE-STRUCTURED-LOCATION;VALUE=URI;X-ADDRESS=Petra’s 1919 Commonwealth Avenue Charlotte NC 28205 United States;X-APPLE-RADIUS=500;X-TITLE=1919 Commonwealth Avenue:geo:-80.8125685,35.2190645
END:VEVENT
BEGIN:VEVENT
DTSTART;TZID=America/New_York:20230928T200000
DTEND;TZID=America/New_York:20230928T200000
DTSTAMP:20260420T151930
CREATED:20230823T182628Z
LAST-MODIFIED:20230823T182756Z
UID:10001543-1695931200-1695931200@petrasbar.com
SUMMARY:The Abbey Elmore Band | Clay Johnson & The Hard Promises
DESCRIPTION:Doors @ 8p | Show @ 9p\nTickets: $7 Advance | $10 Day Of\n• 21+ with valid ID \n  \nThe Abbey Elmore Band\nAn indie pop group from the Carolinas \nlinktr.ee/theabbeyelmoreband \n  \nClay Johnson & The Hard Promises\nHigh Energy Americana from Spartanburg\, SC \nhttps://clayjohnsonmusic.com/
URL:https://petrasbar.com/event/the-abbey-elmore-band-clay-johnson-the-hard-promises/
LOCATION:Petra’s\, 1919 Commonwealth Avenue\, Charlotte\, NC\, 28205\, United States
CATEGORIES:Featured,Live Music,Shows
ATTACH;FMTTYPE=image/jpeg:https://petrasbar.com/wp-content/uploads/2023/08/cf0b8e81ce9a531464b08dc10335a484-CaKLVq.tmp_.jpg
GEO:35.2190645;-80.8125685
X-APPLE-STRUCTURED-LOCATION;VALUE=URI;X-ADDRESS=Petra’s 1919 Commonwealth Avenue Charlotte NC 28205 United States;X-APPLE-RADIUS=500;X-TITLE=1919 Commonwealth Avenue:geo:-80.8125685,35.2190645
END:VEVENT
BEGIN:VEVENT
DTSTART;TZID=America/New_York:20230929T200000
DTEND;TZID=America/New_York:20230929T200000
DTSTAMP:20260420T151931
CREATED:20230823T055751Z
LAST-MODIFIED:20230831T151308Z
UID:10001542-1696017600-1696017600@petrasbar.com
SUMMARY:Lillie Mae | Darby Wilcox | Ryan Lockhart
DESCRIPTION:Show @ 9pm\nTickets: $15\n• 21+ with valid ID \n  \nLillie Mae\nMusic has always been a major part of Lillie Mae’s life. At the age of 3\, Mae started performing and playing with her family band at churches\, fairs\, festivals and theme parks. The family moved to Nashville when she was 8\, expanding their profile and her own experience as traveling and performing became the norm. \nAt age 14\, Lillie Mae and her siblings formed the band Jypsi and signed with Arista Records. They garnered two Top 40 singles on Billboard’s Hot Country chart however\, that success didn’t last. The fickleness of the major label system caused Jypsi’s album to be shelved before it was released. \nLillie Mae would go on to find success as a studio musician\, performing with many top musicians\, including Dwight Yoakam\, the Grammy-nominated Michael Kiwanuka\, Dean Fertitta and Jack White. She met the Third Man crew when White’s long-time engineer Josh Smith suggested that she and her sister Scarlett record for The Lone Ranger soundtrack. Around that time\, White was putting the finishing touches on his solo debut\, Blunderbuss\, and enlisted Mae to perform on “Take Me With You When You Go.” White then invited Lillie to join his all-female touring band and with Jypsi on hiatus\, she accepted the offer. \nThose journeys with White brought her to some of the biggest festival and concert halls in the world. From Neil Young’s legendary Bridge School benefit show to playing fiddle for Robert Plant and even opening for him. When touring commenced with White\, she’d go on to release two albums via his Third Man Records label – 2017’s Forever and Then Some and 2019’s Other Girls. \nIn 2021\, Lillie Mae got to work on her next album Festival Eyes with Texas producer Beau Bedford and her family serving as her backing band. The eight track collection is set for release in late 2023. Lillie Mae also performs select dates with Jim Lauderdale & The Game Changers. \nhttps://lilliemaemusic.com/ \n  \nDarby Wilcox\nStunning. Incisive. Heartbreaking. Her songs are places you’ve been before. \nhttps://darbywilcox.bandcamp.com/ \n  \nRyan Lockhart\nsinger/songwriter\n(vocalist of Funeral Chic & Narratives)
URL:https://petrasbar.com/event/lillie-mae-with-darby-wilcox/
LOCATION:Petra’s\, 1919 Commonwealth Avenue\, Charlotte\, NC\, 28205\, United States
CATEGORIES:Featured,Live Music,Shows
ATTACH;FMTTYPE=image/jpeg:https://petrasbar.com/wp-content/uploads/2023/08/4c0e0c2e9bb6c607658088b6114b8db9-EkJBTt.tmp_.jpg
GEO:35.2190645;-80.8125685
X-APPLE-STRUCTURED-LOCATION;VALUE=URI;X-ADDRESS=Petra’s 1919 Commonwealth Avenue Charlotte NC 28205 United States;X-APPLE-RADIUS=500;X-TITLE=1919 Commonwealth Avenue:geo:-80.8125685,35.2190645
END:VEVENT
BEGIN:VEVENT
DTSTART;TZID=America/New_York:20230930T200000
DTEND;TZID=America/New_York:20230930T200000
DTSTAMP:20260420T151931
CREATED:20230707T172355Z
LAST-MODIFIED:20230707T172635Z
UID:10001526-1696104000-1696104000@petrasbar.com
SUMMARY:Narrowcast | Solis | MOA
DESCRIPTION:Doors: 8pm | Show: 9pm\nTickets: $7 Advance | $10 Day Of\n• 21+ with valid ID \n  \nNarrowcast\nsomewhere between indie rock and shoegaze \nwww.narrowcast.band \n  \nSolis\nDream Pop from Charlotte\, NC \nhttps://www.soundofsolis.com/ \n  \nMOA\nMoa’s music is like diving into a bottomless well only to discover you’re floating untethered \nlinktr.ee/moa_nc
URL:https://petrasbar.com/event/narrowcast-solis-moa/
LOCATION:Petra’s\, 1919 Commonwealth Avenue\, Charlotte\, NC\, 28205\, United States
CATEGORIES:Featured,Live Music,Shows
ATTACH;FMTTYPE=image/jpeg:https://petrasbar.com/wp-content/uploads/2023/07/89179852cf8c636e0c2dcfb1c7a210f7-niM8Jl.tmp_.jpg
GEO:35.2190645;-80.8125685
X-APPLE-STRUCTURED-LOCATION;VALUE=URI;X-ADDRESS=Petra’s 1919 Commonwealth Avenue Charlotte NC 28205 United States;X-APPLE-RADIUS=500;X-TITLE=1919 Commonwealth Avenue:geo:-80.8125685,35.2190645
END:VEVENT
END:VCALENDAR