BEGIN:VCALENDAR
VERSION:2.0
PRODID:-//Petra&#039;s Bar - ECPv6.15.20//NONSGML v1.0//EN
CALSCALE:GREGORIAN
METHOD:PUBLISH
X-WR-CALNAME:Petra&#039;s Bar
X-ORIGINAL-URL:https://petrasbar.com
X-WR-CALDESC:Events for Petra&#039;s Bar
REFRESH-INTERVAL;VALUE=DURATION:PT1H
X-Robots-Tag:noindex
X-PUBLISHED-TTL:PT1H
BEGIN:VTIMEZONE
TZID:America/New_York
BEGIN:DAYLIGHT
TZOFFSETFROM:-0500
TZOFFSETTO:-0400
TZNAME:EDT
DTSTART:20230312T070000
END:DAYLIGHT
BEGIN:STANDARD
TZOFFSETFROM:-0400
TZOFFSETTO:-0500
TZNAME:EST
DTSTART:20231105T060000
END:STANDARD
BEGIN:DAYLIGHT
TZOFFSETFROM:-0500
TZOFFSETTO:-0400
TZNAME:EDT
DTSTART:20240310T070000
END:DAYLIGHT
BEGIN:STANDARD
TZOFFSETFROM:-0400
TZOFFSETTO:-0500
TZNAME:EST
DTSTART:20241103T060000
END:STANDARD
BEGIN:DAYLIGHT
TZOFFSETFROM:-0500
TZOFFSETTO:-0400
TZNAME:EDT
DTSTART:20250309T070000
END:DAYLIGHT
BEGIN:STANDARD
TZOFFSETFROM:-0400
TZOFFSETTO:-0500
TZNAME:EST
DTSTART:20251102T060000
END:STANDARD
END:VTIMEZONE
BEGIN:VTIMEZONE
TZID:America/New_York
BEGIN:DAYLIGHT
TZOFFSETFROM:-0500
TZOFFSETTO:-0400
TZNAME:EDT
DTSTART:20230312T070000
END:DAYLIGHT
BEGIN:STANDARD
TZOFFSETFROM:-0400
TZOFFSETTO:-0500
TZNAME:EST
DTSTART:20231105T060000
END:STANDARD
BEGIN:DAYLIGHT
TZOFFSETFROM:-0500
TZOFFSETTO:-0400
TZNAME:EDT
DTSTART:20240310T070000
END:DAYLIGHT
BEGIN:STANDARD
TZOFFSETFROM:-0400
TZOFFSETTO:-0500
TZNAME:EST
DTSTART:20241103T060000
END:STANDARD
BEGIN:DAYLIGHT
TZOFFSETFROM:-0500
TZOFFSETTO:-0400
TZNAME:EDT
DTSTART:20250309T070000
END:DAYLIGHT
BEGIN:STANDARD
TZOFFSETFROM:-0400
TZOFFSETTO:-0500
TZNAME:EST
DTSTART:20251102T060000
END:STANDARD
END:VTIMEZONE
BEGIN:VEVENT
DTSTART;TZID=America/New_York:20240714T160000
DTEND;TZID=America/New_York:20240714T210000
DTSTAMP:20260419T151630
CREATED:20231229T221938Z
LAST-MODIFIED:20250724T214559Z
UID:10001646-1720972800-1720990800@petrasbar.com
SUMMARY:Nic @ Nite
DESCRIPTION:Nic @ Nite is a free rock n roll party presented by our crushiest dreamboat bartender Nic Pugh. \nCocktails by Nic \nHandpicked rock and roll by DJ Fat Keith Richards \n8pm – Midnight \nFREE
URL:https://petrasbar.com/event/nic-nite-2/2024-07-14/
LOCATION:Petra’s\, 1919 Commonwealth Avenue\, Charlotte\, NC\, 28205\, United States
CATEGORIES:Featured
ATTACH;FMTTYPE=image/jpeg:https://petrasbar.com/wp-content/uploads/2023/12/NicAtNite.jpeg
END:VEVENT
BEGIN:VEVENT
DTSTART;TZID=America/New_York:20240713T200000
DTEND;TZID=America/New_York:20240713T200000
DTSTAMP:20260419T151630
CREATED:20240613T151531Z
LAST-MODIFIED:20240613T151531Z
UID:10001767-1720900800-1720900800@petrasbar.com
SUMMARY:Benton | Lynsea | Hillmouse
DESCRIPTION:Doors: 8pm | Show: 9pm\nTickets: $7 Advance | $10 Day Of\n• 21+ \n  \nBenton\nelectronic project by Jonathan Hussey; a producer and multi-instrumentalist based out of Charlotte\, NC.\nhttps://distrokid.com/hyperfollow/benton1/feels-alright \n  \nLynsea\nLynsea is a Charlotte-basedindependent pop singer/songwriter whose voice mightremind you of a modern dayAlanis or Jewel yet paired withindie pop sounds and cleverlyrics.\nhttps://linktr.ee/imlynsea \n  \nHillmouse\nA lt-country from Columbia\, SC\nhttps://linktr.ee/hillmouse
URL:https://petrasbar.com/event/benton-lynsea-hillmouse/
LOCATION:Petra’s\, 1919 Commonwealth Avenue\, Charlotte\, NC\, 28205\, United States
CATEGORIES:Featured,Live Music,Shows
ATTACH;FMTTYPE=image/png:https://petrasbar.com/wp-content/uploads/2024/06/Screen-Shot-2024-06-12-at-8.31.57-PM.png
END:VEVENT
BEGIN:VEVENT
DTSTART;TZID=America/New_York:20240711T200000
DTEND;TZID=America/New_York:20240711T200000
DTSTAMP:20260419T151630
CREATED:20240613T164231Z
LAST-MODIFIED:20240628T181938Z
UID:10001769-1720728000-1720728000@petrasbar.com
SUMMARY:Cheer Up! | The Abstratica | Alone Together
DESCRIPTION:Doors: 8pm | Show: 9pm\nTickets: $7 Advance | $10 Day Of\n• 21+ \n  \nCheer Up!\nhttps://open.spotify.com/album/6mSUxOP7qcLgJxk4npzpNz?si=ndl5A3R \nThe Abstratica\nhttps://open.spotify.com/artist/7C1PsvnkxaknD9vK1jPHnx?si=-0sLvBhxQj-5dw3LjW2Uzw \nAlone Together\nhttps://open.spotify.com/artist/300KHilQxDZjHOmcND9BGH?si=gLlpNxIUQJeACmrX2wwc9Q
URL:https://petrasbar.com/event/cheer-up-the-abstractica-alone-together/
LOCATION:Petra’s\, 1919 Commonwealth Avenue\, Charlotte\, NC\, 28205\, United States
CATEGORIES:Featured,Live Music,Shows
ATTACH;FMTTYPE=image/jpeg:https://petrasbar.com/wp-content/uploads/2024/06/Cheer-UP.jpeg
END:VEVENT
BEGIN:VEVENT
DTSTART;TZID=America/New_York:20240710T190000
DTEND;TZID=America/New_York:20240710T190000
DTSTAMP:20260419T151630
CREATED:20210618T123010Z
LAST-MODIFIED:20240426T185459Z
UID:10000731-1720638000-1720638000@petrasbar.com
SUMMARY:Karaoke with Klaytastic
DESCRIPTION:Every Wednesday at Petra’s is the best karaoke party in Charlotte. \nWith host @klaytastic!\n\n7pm-12am | No Cover | 21+ (No Exceptions)
URL:https://petrasbar.com/event/fckn-karaoke-2022-02-23-2023-08-16-2024-01-24/2024-07-10/
LOCATION:Petra’s\, 1919 Commonwealth Avenue\, Charlotte\, NC\, 28205\, United States
CATEGORIES:Featured,Karaoke,Live Music
ATTACH;FMTTYPE=image/jpeg:https://petrasbar.com/wp-content/uploads/2021/06/karaokePRINT-scaled.jpeg
END:VEVENT
BEGIN:VEVENT
DTSTART;TZID=America/New_York:20240708T193000
DTEND;TZID=America/New_York:20240708T193000
DTSTAMP:20260419T151630
CREATED:20210617T234840Z
LAST-MODIFIED:20251002T192258Z
UID:10002139-1720467000-1720467000@petrasbar.com
SUMMARY:The Bill Hanna Legacy Jazz Session
DESCRIPTION:Doors: 7pm | Music: 7:30pm-10pm\nTickets: $7 Advance | $10 Day Of\n• 21+ with Valid ID \n  \nBill Hanna was a legend in Charlotte. He was the godfather of Jazz and we’re keeping his legacy alive each and every Monday night. Come join us to see some of Charlotte’s best musicians perform in an intimate setting. \nLimited seating is 1st come 1st serve.
URL:https://petrasbar.com/event/bill-hannas-jazz-session-2024-01-08-2024-01-08-2024-01-15/2024-07-08/
LOCATION:Petra’s\, 1919 Commonwealth Avenue\, Charlotte\, NC\, 28205\, United States
CATEGORIES:Featured,Live Music,Shows
ATTACH;FMTTYPE=image/jpeg:https://petrasbar.com/wp-content/uploads/2021/06/Hanna_2008_dcoston2.jpeg
END:VEVENT
BEGIN:VEVENT
DTSTART;TZID=America/New_York:20240707T160000
DTEND;TZID=America/New_York:20240707T210000
DTSTAMP:20260419T151630
CREATED:20210627T185147Z
LAST-MODIFIED:20250123T175231Z
UID:10000925-1720368000-1720386000@petrasbar.com
SUMMARY:Hazy Sunday
DESCRIPTION:Highly curated. \nCharlotte’s best day party is on our back patio every 1st\, 3rd\, and 5th Sunday with Probably Will and Ray Krol. \n4pm – 9pm\n$10 at the door (enter via the alley)\n21+ with valid ID
URL:https://petrasbar.com/event/hazy-sunday/2024-07-07/
LOCATION:Petra’s\, 1919 Commonwealth Avenue\, Charlotte\, NC\, 28205\, United States
CATEGORIES:Dance,Featured,Live Music
ATTACH;FMTTYPE=image/jpeg:https://petrasbar.com/wp-content/uploads/2021/06/depositphotos_336300516-stock-photo-palm-trees-psychedelic-sky-background.jpeg
END:VEVENT
BEGIN:VEVENT
DTSTART;TZID=America/New_York:20240705T200000
DTEND;TZID=America/New_York:20240705T200000
DTSTAMP:20260419T151630
CREATED:20240629T181113Z
LAST-MODIFIED:20240629T181113Z
UID:10001773-1720209600-1720209600@petrasbar.com
SUMMARY:Citrus's Kisses: An Art Show
DESCRIPTION:Doors @ 8pm \nShow @ 9pm \n$10 at the door \n21+
URL:https://petrasbar.com/event/citruss-kisses-an-art-show/
LOCATION:Petra’s\, 1919 Commonwealth Avenue\, Charlotte\, NC\, 28205\, United States
CATEGORIES:Featured,Gallery Opening,Live Music,Shows
ATTACH;FMTTYPE=image/jpeg:https://petrasbar.com/wp-content/uploads/2024/06/July-5.jpg
END:VEVENT
BEGIN:VEVENT
DTSTART;TZID=America/New_York:20240703T190000
DTEND;TZID=America/New_York:20240703T190000
DTSTAMP:20260419T151630
CREATED:20210618T123010Z
LAST-MODIFIED:20240426T185459Z
UID:10000730-1720033200-1720033200@petrasbar.com
SUMMARY:Karaoke with Klaytastic
DESCRIPTION:Every Wednesday at Petra’s is the best karaoke party in Charlotte. \nWith host @klaytastic!\n\n7pm-12am | No Cover | 21+ (No Exceptions)
URL:https://petrasbar.com/event/fckn-karaoke-2022-02-23-2023-08-16-2024-01-24/2024-07-03/
LOCATION:Petra’s\, 1919 Commonwealth Avenue\, Charlotte\, NC\, 28205\, United States
CATEGORIES:Featured,Karaoke,Live Music
ATTACH;FMTTYPE=image/jpeg:https://petrasbar.com/wp-content/uploads/2021/06/karaokePRINT-scaled.jpeg
END:VEVENT
BEGIN:VEVENT
DTSTART;TZID=America/New_York:20240702T190000
DTEND;TZID=America/New_York:20240702T190000
DTSTAMP:20260419T151630
CREATED:20210628T195539Z
LAST-MODIFIED:20230202T153934Z
UID:10000137-1719946800-1719946800@petrasbar.com
SUMMARY:Piano Karaoke & Sing Along with Ryan Stamey
DESCRIPTION:Every 1st Tuesday! \nPick a song\, grab the Mic\, and host Ryan Stamey will accompany you on piano while you take the stage! Come grab a drink\, sing your heart out\, make requests\, or just sit back\, relax and enjoy the show! \n8pm-11pm\n7:30 Signup\n$5 At The Door\n21+ with valid ID
URL:https://petrasbar.com/event/piano-karaoke-sing-along-with-ryan-stamey/2024-07-02/
LOCATION:Petra’s\, 1919 Commonwealth Avenue\, Charlotte\, NC\, 28205\, United States
CATEGORIES:Featured,Karaoke,Live Music,Shows
ATTACH;FMTTYPE=image/jpeg:https://petrasbar.com/wp-content/uploads/2021/06/the-tropical-piano-cesar-chavez-018796f6.jpeg
END:VEVENT
BEGIN:VEVENT
DTSTART;TZID=America/New_York:20240701T193000
DTEND;TZID=America/New_York:20240701T193000
DTSTAMP:20260419T151630
CREATED:20210617T234840Z
LAST-MODIFIED:20251002T192258Z
UID:10002138-1719862200-1719862200@petrasbar.com
SUMMARY:The Bill Hanna Legacy Jazz Session
DESCRIPTION:Doors: 7pm | Music: 7:30pm-10pm\nTickets: $7 Advance | $10 Day Of\n• 21+ with Valid ID \n  \nBill Hanna was a legend in Charlotte. He was the godfather of Jazz and we’re keeping his legacy alive each and every Monday night. Come join us to see some of Charlotte’s best musicians perform in an intimate setting. \nLimited seating is 1st come 1st serve.
URL:https://petrasbar.com/event/bill-hannas-jazz-session-2024-01-08-2024-01-08-2024-01-15/2024-07-01/
LOCATION:Petra’s\, 1919 Commonwealth Avenue\, Charlotte\, NC\, 28205\, United States
CATEGORIES:Featured,Live Music,Shows
ATTACH;FMTTYPE=image/jpeg:https://petrasbar.com/wp-content/uploads/2021/06/Hanna_2008_dcoston2.jpeg
END:VEVENT
BEGIN:VEVENT
DTSTART;TZID=America/New_York:20240630T160000
DTEND;TZID=America/New_York:20240630T210000
DTSTAMP:20260419T151630
CREATED:20250806T153407Z
LAST-MODIFIED:20250806T153407Z
UID:10001070-1719763200-1719781200@petrasbar.com
SUMMARY:Hazy Sunday
DESCRIPTION:Highly curated. \nCharlotte’s best day party is on our back patio every 1st\, 3rd\, and 5th Sunday with Probably Will and Ray Krol. \n4pm – 9pm\n$10 at the door (enter via the alley)\n21+ with valid ID
URL:https://petrasbar.com/event/hazy-sunday/2024-06-30/
LOCATION:Petra’s\, 1919 Commonwealth Avenue\, Charlotte\, NC\, 28205\, United States
CATEGORIES:Dance,Featured,Live Music
ATTACH;FMTTYPE=image/jpeg:https://petrasbar.com/wp-content/uploads/2021/06/depositphotos_336300516-stock-photo-palm-trees-psychedelic-sky-background.jpeg
END:VEVENT
BEGIN:VEVENT
DTSTART;TZID=America/New_York:20240630T160000
DTEND;TZID=America/New_York:20240630T210000
DTSTAMP:20260419T151630
CREATED:20250806T153406Z
LAST-MODIFIED:20250806T153406Z
UID:10001046-1719763200-1719781200@petrasbar.com
SUMMARY:Hazy Sunday
DESCRIPTION:Highly curated. \nCharlotte’s best day party is on our back patio every 1st\, 3rd\, and 5th Sunday with Probably Will and Ray Krol. \n4pm – 9pm\n$10 at the door (enter via the alley)\n21+ with valid ID
URL:https://petrasbar.com/event/hazy-sunday/2024-06-30/
LOCATION:Petra’s\, 1919 Commonwealth Avenue\, Charlotte\, NC\, 28205\, United States
CATEGORIES:Dance,Featured,Live Music
ATTACH;FMTTYPE=image/jpeg:https://petrasbar.com/wp-content/uploads/2021/06/depositphotos_336300516-stock-photo-palm-trees-psychedelic-sky-background.jpeg
END:VEVENT
BEGIN:VEVENT
DTSTART;TZID=America/New_York:20240626T190000
DTEND;TZID=America/New_York:20240626T190000
DTSTAMP:20260419T151630
CREATED:20210618T123010Z
LAST-MODIFIED:20240426T185459Z
UID:10000729-1719428400-1719428400@petrasbar.com
SUMMARY:Karaoke with Klaytastic
DESCRIPTION:Every Wednesday at Petra’s is the best karaoke party in Charlotte. \nWith host @klaytastic!\n\n7pm-12am | No Cover | 21+ (No Exceptions)
URL:https://petrasbar.com/event/fckn-karaoke-2022-02-23-2023-08-16-2024-01-24/2024-06-26/
LOCATION:Petra’s\, 1919 Commonwealth Avenue\, Charlotte\, NC\, 28205\, United States
CATEGORIES:Featured,Karaoke,Live Music
ATTACH;FMTTYPE=image/jpeg:https://petrasbar.com/wp-content/uploads/2021/06/karaokePRINT-scaled.jpeg
END:VEVENT
BEGIN:VEVENT
DTSTART;TZID=America/New_York:20240624T193000
DTEND;TZID=America/New_York:20240624T193000
DTSTAMP:20260419T151630
CREATED:20210617T234840Z
LAST-MODIFIED:20251002T192258Z
UID:10002137-1719257400-1719257400@petrasbar.com
SUMMARY:The Bill Hanna Legacy Jazz Session
DESCRIPTION:Doors: 7pm | Music: 7:30pm-10pm\nTickets: $7 Advance | $10 Day Of\n• 21+ with Valid ID \n  \nBill Hanna was a legend in Charlotte. He was the godfather of Jazz and we’re keeping his legacy alive each and every Monday night. Come join us to see some of Charlotte’s best musicians perform in an intimate setting. \nLimited seating is 1st come 1st serve.
URL:https://petrasbar.com/event/bill-hannas-jazz-session-2024-01-08-2024-01-08-2024-01-15/2024-06-24/
LOCATION:Petra’s\, 1919 Commonwealth Avenue\, Charlotte\, NC\, 28205\, United States
CATEGORIES:Featured,Live Music,Shows
ATTACH;FMTTYPE=image/jpeg:https://petrasbar.com/wp-content/uploads/2021/06/Hanna_2008_dcoston2.jpeg
END:VEVENT
BEGIN:VEVENT
DTSTART;TZID=America/New_York:20240619T190000
DTEND;TZID=America/New_York:20240619T190000
DTSTAMP:20260419T151630
CREATED:20210618T123010Z
LAST-MODIFIED:20240426T185459Z
UID:10000728-1718823600-1718823600@petrasbar.com
SUMMARY:Karaoke with Klaytastic
DESCRIPTION:Every Wednesday at Petra’s is the best karaoke party in Charlotte. \nWith host @klaytastic!\n\n7pm-12am | No Cover | 21+ (No Exceptions)
URL:https://petrasbar.com/event/fckn-karaoke-2022-02-23-2023-08-16-2024-01-24/2024-06-19/
LOCATION:Petra’s\, 1919 Commonwealth Avenue\, Charlotte\, NC\, 28205\, United States
CATEGORIES:Featured,Karaoke,Live Music
ATTACH;FMTTYPE=image/jpeg:https://petrasbar.com/wp-content/uploads/2021/06/karaokePRINT-scaled.jpeg
END:VEVENT
BEGIN:VEVENT
DTSTART;TZID=America/New_York:20240617T193000
DTEND;TZID=America/New_York:20240617T193000
DTSTAMP:20260419T151630
CREATED:20210617T234840Z
LAST-MODIFIED:20251002T192258Z
UID:10002136-1718652600-1718652600@petrasbar.com
SUMMARY:The Bill Hanna Legacy Jazz Session
DESCRIPTION:Doors: 7pm | Music: 7:30pm-10pm\nTickets: $7 Advance | $10 Day Of\n• 21+ with Valid ID \n  \nBill Hanna was a legend in Charlotte. He was the godfather of Jazz and we’re keeping his legacy alive each and every Monday night. Come join us to see some of Charlotte’s best musicians perform in an intimate setting. \nLimited seating is 1st come 1st serve.
URL:https://petrasbar.com/event/bill-hannas-jazz-session-2024-01-08-2024-01-08-2024-01-15/2024-06-17/
LOCATION:Petra’s\, 1919 Commonwealth Avenue\, Charlotte\, NC\, 28205\, United States
CATEGORIES:Featured,Live Music,Shows
ATTACH;FMTTYPE=image/jpeg:https://petrasbar.com/wp-content/uploads/2021/06/Hanna_2008_dcoston2.jpeg
END:VEVENT
BEGIN:VEVENT
DTSTART;TZID=America/New_York:20240616T160000
DTEND;TZID=America/New_York:20240616T210000
DTSTAMP:20260419T151630
CREATED:20250806T153405Z
LAST-MODIFIED:20250806T153405Z
UID:10000997-1718553600-1718571600@petrasbar.com
SUMMARY:Hazy Sunday
DESCRIPTION:Highly curated. \nCharlotte’s best day party is on our back patio every 1st\, 3rd\, and 5th Sunday with Probably Will and Ray Krol. \n4pm – 9pm\n$10 at the door (enter via the alley)\n21+ with valid ID
URL:https://petrasbar.com/event/hazy-sunday/2024-06-16/
LOCATION:Petra’s\, 1919 Commonwealth Avenue\, Charlotte\, NC\, 28205\, United States
CATEGORIES:Dance,Featured,Live Music
ATTACH;FMTTYPE=image/jpeg:https://petrasbar.com/wp-content/uploads/2021/06/depositphotos_336300516-stock-photo-palm-trees-psychedelic-sky-background.jpeg
END:VEVENT
BEGIN:VEVENT
DTSTART;TZID=America/New_York:20240612T190000
DTEND;TZID=America/New_York:20240612T190000
DTSTAMP:20260419T151630
CREATED:20210618T123010Z
LAST-MODIFIED:20240426T185459Z
UID:10000727-1718218800-1718218800@petrasbar.com
SUMMARY:Karaoke with Klaytastic
DESCRIPTION:Every Wednesday at Petra’s is the best karaoke party in Charlotte. \nWith host @klaytastic!\n\n7pm-12am | No Cover | 21+ (No Exceptions)
URL:https://petrasbar.com/event/fckn-karaoke-2022-02-23-2023-08-16-2024-01-24/2024-06-12/
LOCATION:Petra’s\, 1919 Commonwealth Avenue\, Charlotte\, NC\, 28205\, United States
CATEGORIES:Featured,Karaoke,Live Music
ATTACH;FMTTYPE=image/jpeg:https://petrasbar.com/wp-content/uploads/2021/06/karaokePRINT-scaled.jpeg
END:VEVENT
BEGIN:VEVENT
DTSTART;TZID=America/New_York:20240610T193000
DTEND;TZID=America/New_York:20240610T193000
DTSTAMP:20260419T151630
CREATED:20210617T234840Z
LAST-MODIFIED:20251002T192258Z
UID:10002135-1718047800-1718047800@petrasbar.com
SUMMARY:The Bill Hanna Legacy Jazz Session
DESCRIPTION:Doors: 7pm | Music: 7:30pm-10pm\nTickets: $7 Advance | $10 Day Of\n• 21+ with Valid ID \n  \nBill Hanna was a legend in Charlotte. He was the godfather of Jazz and we’re keeping his legacy alive each and every Monday night. Come join us to see some of Charlotte’s best musicians perform in an intimate setting. \nLimited seating is 1st come 1st serve.
URL:https://petrasbar.com/event/bill-hannas-jazz-session-2024-01-08-2024-01-08-2024-01-15/2024-06-10/
LOCATION:Petra’s\, 1919 Commonwealth Avenue\, Charlotte\, NC\, 28205\, United States
CATEGORIES:Featured,Live Music,Shows
ATTACH;FMTTYPE=image/jpeg:https://petrasbar.com/wp-content/uploads/2021/06/Hanna_2008_dcoston2.jpeg
END:VEVENT
BEGIN:VEVENT
DTSTART;TZID=America/New_York:20240605T190000
DTEND;TZID=America/New_York:20240605T190000
DTSTAMP:20260419T151630
CREATED:20210618T123010Z
LAST-MODIFIED:20240426T185459Z
UID:10000726-1717614000-1717614000@petrasbar.com
SUMMARY:Karaoke with Klaytastic
DESCRIPTION:Every Wednesday at Petra’s is the best karaoke party in Charlotte. \nWith host @klaytastic!\n\n7pm-12am | No Cover | 21+ (No Exceptions)
URL:https://petrasbar.com/event/fckn-karaoke-2022-02-23-2023-08-16-2024-01-24/2024-06-05/
LOCATION:Petra’s\, 1919 Commonwealth Avenue\, Charlotte\, NC\, 28205\, United States
CATEGORIES:Featured,Karaoke,Live Music
ATTACH;FMTTYPE=image/jpeg:https://petrasbar.com/wp-content/uploads/2021/06/karaokePRINT-scaled.jpeg
END:VEVENT
BEGIN:VEVENT
DTSTART;TZID=America/New_York:20240604T190000
DTEND;TZID=America/New_York:20240604T190000
DTSTAMP:20260419T151630
CREATED:20210628T195539Z
LAST-MODIFIED:20230202T153934Z
UID:10000136-1717527600-1717527600@petrasbar.com
SUMMARY:Piano Karaoke & Sing Along with Ryan Stamey
DESCRIPTION:Every 1st Tuesday! \nPick a song\, grab the Mic\, and host Ryan Stamey will accompany you on piano while you take the stage! Come grab a drink\, sing your heart out\, make requests\, or just sit back\, relax and enjoy the show! \n8pm-11pm\n7:30 Signup\n$5 At The Door\n21+ with valid ID
URL:https://petrasbar.com/event/piano-karaoke-sing-along-with-ryan-stamey/2024-06-04/
LOCATION:Petra’s\, 1919 Commonwealth Avenue\, Charlotte\, NC\, 28205\, United States
CATEGORIES:Featured,Karaoke,Live Music,Shows
ATTACH;FMTTYPE=image/jpeg:https://petrasbar.com/wp-content/uploads/2021/06/the-tropical-piano-cesar-chavez-018796f6.jpeg
END:VEVENT
BEGIN:VEVENT
DTSTART;TZID=America/New_York:20240603T193000
DTEND;TZID=America/New_York:20240603T193000
DTSTAMP:20260419T151630
CREATED:20210617T234840Z
LAST-MODIFIED:20251002T192258Z
UID:10002134-1717443000-1717443000@petrasbar.com
SUMMARY:The Bill Hanna Legacy Jazz Session
DESCRIPTION:Doors: 7pm | Music: 7:30pm-10pm\nTickets: $7 Advance | $10 Day Of\n• 21+ with Valid ID \n  \nBill Hanna was a legend in Charlotte. He was the godfather of Jazz and we’re keeping his legacy alive each and every Monday night. Come join us to see some of Charlotte’s best musicians perform in an intimate setting. \nLimited seating is 1st come 1st serve.
URL:https://petrasbar.com/event/bill-hannas-jazz-session-2024-01-08-2024-01-08-2024-01-15/2024-06-03/
LOCATION:Petra’s\, 1919 Commonwealth Avenue\, Charlotte\, NC\, 28205\, United States
CATEGORIES:Featured,Live Music,Shows
ATTACH;FMTTYPE=image/jpeg:https://petrasbar.com/wp-content/uploads/2021/06/Hanna_2008_dcoston2.jpeg
END:VEVENT
BEGIN:VEVENT
DTSTART;TZID=America/New_York:20240602T160000
DTEND;TZID=America/New_York:20240602T210000
DTSTAMP:20260419T151630
CREATED:20210627T185147Z
LAST-MODIFIED:20250123T175231Z
UID:10000924-1717344000-1717362000@petrasbar.com
SUMMARY:Hazy Sunday
DESCRIPTION:Highly curated. \nCharlotte’s best day party is on our back patio every 1st\, 3rd\, and 5th Sunday with Probably Will and Ray Krol. \n4pm – 9pm\n$10 at the door (enter via the alley)\n21+ with valid ID
URL:https://petrasbar.com/event/hazy-sunday/2024-06-02/
LOCATION:Petra’s\, 1919 Commonwealth Avenue\, Charlotte\, NC\, 28205\, United States
CATEGORIES:Dance,Featured,Live Music
ATTACH;FMTTYPE=image/jpeg:https://petrasbar.com/wp-content/uploads/2021/06/depositphotos_336300516-stock-photo-palm-trees-psychedelic-sky-background.jpeg
END:VEVENT
BEGIN:VEVENT
DTSTART;TZID=America/New_York:20240531T200000
DTEND;TZID=America/New_York:20240531T200000
DTSTAMP:20260419T151630
CREATED:20240210T230005Z
LAST-MODIFIED:20240412T174034Z
UID:10001675-1717185600-1717185600@petrasbar.com
SUMMARY:Ultraviolet
DESCRIPTION:Doors: 8pm | Show: 9pm\nTickets: $10\n• 21+ with valid ID\n\nUltraViolet: /ˌəltrəˈvī(ə)lət/\nvery queer\, with a reverence for the divine feminine\n\n\nDance all night\, discover answers to your questions about life and love\, and get glammed <3 \nSapphic Night is for all of the LGBTIA+ folks out there who revere the divine feminine. Trans-inclusive and gender-expansive. \nMusic by DJs @blackasthecosmos and Clay Papa\nTarot readings by @banditibliss\nGlitter and glam by @lexs.lethal.looks\nSupporting @timeoutyouthcenter
URL:https://petrasbar.com/event/ultraviolet-2/
LOCATION:Petra’s\, 1919 Commonwealth Avenue\, Charlotte\, NC\, 28205\, United States
CATEGORIES:Dance,Featured
ATTACH;FMTTYPE=image/jpeg:https://petrasbar.com/wp-content/uploads/2024/02/image000000010.jpg
END:VEVENT
BEGIN:VEVENT
DTSTART;TZID=America/New_York:20240530T200000
DTEND;TZID=America/New_York:20240530T200000
DTSTAMP:20260419T151630
CREATED:20240522T200533Z
LAST-MODIFIED:20240523T150636Z
UID:10001560-1717099200-1717099200@petrasbar.com
SUMMARY:Eric's Goodbye Show
DESCRIPTION:Doors: 8pm | Show: 9pm\nTickets: $5 At The Door \nFeaturing Lil Skritt & The Broken Heart Repairmen\nEric! (And Friends)\nBoy A/C
URL:https://petrasbar.com/event/erics-goodbye-show/
LOCATION:Petra’s\, 1919 Commonwealth Avenue\, Charlotte\, NC\, 28205\, United States
CATEGORIES:Featured,Live Music,Shows
ATTACH;FMTTYPE=image/jpeg:https://petrasbar.com/wp-content/uploads/2024/05/IMG_6208.jpg
END:VEVENT
BEGIN:VEVENT
DTSTART;TZID=America/New_York:20240529T190000
DTEND;TZID=America/New_York:20240529T190000
DTSTAMP:20260419T151630
CREATED:20210618T123010Z
LAST-MODIFIED:20240426T185459Z
UID:10000725-1717009200-1717009200@petrasbar.com
SUMMARY:Karaoke with Klaytastic
DESCRIPTION:Every Wednesday at Petra’s is the best karaoke party in Charlotte. \nWith host @klaytastic!\n\n7pm-12am | No Cover | 21+ (No Exceptions)
URL:https://petrasbar.com/event/fckn-karaoke-2022-02-23-2023-08-16-2024-01-24/2024-05-29/
LOCATION:Petra’s\, 1919 Commonwealth Avenue\, Charlotte\, NC\, 28205\, United States
CATEGORIES:Featured,Karaoke,Live Music
ATTACH;FMTTYPE=image/jpeg:https://petrasbar.com/wp-content/uploads/2021/06/karaokePRINT-scaled.jpeg
END:VEVENT
BEGIN:VEVENT
DTSTART;TZID=America/New_York:20240527T193000
DTEND;TZID=America/New_York:20240527T193000
DTSTAMP:20260419T151630
CREATED:20210617T234840Z
LAST-MODIFIED:20251002T192258Z
UID:10002133-1716838200-1716838200@petrasbar.com
SUMMARY:The Bill Hanna Legacy Jazz Session
DESCRIPTION:Doors: 7pm | Music: 7:30pm-10pm\nTickets: $7 Advance | $10 Day Of\n• 21+ with Valid ID \n  \nBill Hanna was a legend in Charlotte. He was the godfather of Jazz and we’re keeping his legacy alive each and every Monday night. Come join us to see some of Charlotte’s best musicians perform in an intimate setting. \nLimited seating is 1st come 1st serve.
URL:https://petrasbar.com/event/bill-hannas-jazz-session-2024-01-08-2024-01-08-2024-01-15/2024-05-27/
LOCATION:Petra’s\, 1919 Commonwealth Avenue\, Charlotte\, NC\, 28205\, United States
CATEGORIES:Featured,Live Music,Shows
ATTACH;FMTTYPE=image/jpeg:https://petrasbar.com/wp-content/uploads/2021/06/Hanna_2008_dcoston2.jpeg
END:VEVENT
BEGIN:VEVENT
DTSTART;TZID=America/New_York:20240522T190000
DTEND;TZID=America/New_York:20240522T190000
DTSTAMP:20260419T151630
CREATED:20210618T123010Z
LAST-MODIFIED:20240426T185459Z
UID:10000724-1716404400-1716404400@petrasbar.com
SUMMARY:Karaoke with Klaytastic
DESCRIPTION:Every Wednesday at Petra’s is the best karaoke party in Charlotte. \nWith host @klaytastic!\n\n7pm-12am | No Cover | 21+ (No Exceptions)
URL:https://petrasbar.com/event/fckn-karaoke-2022-02-23-2023-08-16-2024-01-24/2024-05-22/
LOCATION:Petra’s\, 1919 Commonwealth Avenue\, Charlotte\, NC\, 28205\, United States
CATEGORIES:Featured,Karaoke,Live Music
ATTACH;FMTTYPE=image/jpeg:https://petrasbar.com/wp-content/uploads/2021/06/karaokePRINT-scaled.jpeg
END:VEVENT
BEGIN:VEVENT
DTSTART;TZID=America/New_York:20240520T193000
DTEND;TZID=America/New_York:20240520T193000
DTSTAMP:20260419T151630
CREATED:20210617T234840Z
LAST-MODIFIED:20251002T192258Z
UID:10002132-1716233400-1716233400@petrasbar.com
SUMMARY:The Bill Hanna Legacy Jazz Session
DESCRIPTION:Doors: 7pm | Music: 7:30pm-10pm\nTickets: $7 Advance | $10 Day Of\n• 21+ with Valid ID \n  \nBill Hanna was a legend in Charlotte. He was the godfather of Jazz and we’re keeping his legacy alive each and every Monday night. Come join us to see some of Charlotte’s best musicians perform in an intimate setting. \nLimited seating is 1st come 1st serve.
URL:https://petrasbar.com/event/bill-hannas-jazz-session-2024-01-08-2024-01-08-2024-01-15/2024-05-20/
LOCATION:Petra’s\, 1919 Commonwealth Avenue\, Charlotte\, NC\, 28205\, United States
CATEGORIES:Featured,Live Music,Shows
ATTACH;FMTTYPE=image/jpeg:https://petrasbar.com/wp-content/uploads/2021/06/Hanna_2008_dcoston2.jpeg
END:VEVENT
BEGIN:VEVENT
DTSTART;TZID=America/New_York:20240519T160000
DTEND;TZID=America/New_York:20240519T210000
DTSTAMP:20260419T151630
CREATED:20250806T153405Z
LAST-MODIFIED:20250806T153405Z
UID:10000996-1716134400-1716152400@petrasbar.com
SUMMARY:Hazy Sunday
DESCRIPTION:Highly curated. \nCharlotte’s best day party is on our back patio every 1st\, 3rd\, and 5th Sunday with Probably Will and Ray Krol. \n4pm – 9pm\n$10 at the door (enter via the alley)\n21+ with valid ID
URL:https://petrasbar.com/event/hazy-sunday/2024-05-19/
LOCATION:Petra’s\, 1919 Commonwealth Avenue\, Charlotte\, NC\, 28205\, United States
CATEGORIES:Dance,Featured,Live Music
ATTACH;FMTTYPE=image/jpeg:https://petrasbar.com/wp-content/uploads/2021/06/depositphotos_336300516-stock-photo-palm-trees-psychedelic-sky-background.jpeg
END:VEVENT
END:VCALENDAR