BEGIN:VCALENDAR
VERSION:2.0
PRODID:-//Petra&#039;s Bar - ECPv6.15.20//NONSGML v1.0//EN
CALSCALE:GREGORIAN
METHOD:PUBLISH
X-WR-CALNAME:Petra&#039;s Bar
X-ORIGINAL-URL:https://petrasbar.com
X-WR-CALDESC:Events for Petra&#039;s Bar
REFRESH-INTERVAL;VALUE=DURATION:PT1H
X-Robots-Tag:noindex
X-PUBLISHED-TTL:PT1H
BEGIN:VTIMEZONE
TZID:America/New_York
BEGIN:DAYLIGHT
TZOFFSETFROM:-0500
TZOFFSETTO:-0400
TZNAME:EDT
DTSTART:20230312T070000
END:DAYLIGHT
BEGIN:STANDARD
TZOFFSETFROM:-0400
TZOFFSETTO:-0500
TZNAME:EST
DTSTART:20231105T060000
END:STANDARD
BEGIN:DAYLIGHT
TZOFFSETFROM:-0500
TZOFFSETTO:-0400
TZNAME:EDT
DTSTART:20240310T070000
END:DAYLIGHT
BEGIN:STANDARD
TZOFFSETFROM:-0400
TZOFFSETTO:-0500
TZNAME:EST
DTSTART:20241103T060000
END:STANDARD
BEGIN:DAYLIGHT
TZOFFSETFROM:-0500
TZOFFSETTO:-0400
TZNAME:EDT
DTSTART:20250309T070000
END:DAYLIGHT
BEGIN:STANDARD
TZOFFSETFROM:-0400
TZOFFSETTO:-0500
TZNAME:EST
DTSTART:20251102T060000
END:STANDARD
END:VTIMEZONE
BEGIN:VTIMEZONE
TZID:America/New_York
BEGIN:DAYLIGHT
TZOFFSETFROM:-0500
TZOFFSETTO:-0400
TZNAME:EDT
DTSTART:20230312T070000
END:DAYLIGHT
BEGIN:STANDARD
TZOFFSETFROM:-0400
TZOFFSETTO:-0500
TZNAME:EST
DTSTART:20231105T060000
END:STANDARD
BEGIN:DAYLIGHT
TZOFFSETFROM:-0500
TZOFFSETTO:-0400
TZNAME:EDT
DTSTART:20240310T070000
END:DAYLIGHT
BEGIN:STANDARD
TZOFFSETFROM:-0400
TZOFFSETTO:-0500
TZNAME:EST
DTSTART:20241103T060000
END:STANDARD
BEGIN:DAYLIGHT
TZOFFSETFROM:-0500
TZOFFSETTO:-0400
TZNAME:EDT
DTSTART:20250309T070000
END:DAYLIGHT
BEGIN:STANDARD
TZOFFSETFROM:-0400
TZOFFSETTO:-0500
TZNAME:EST
DTSTART:20251102T060000
END:STANDARD
END:VTIMEZONE
BEGIN:VEVENT
DTSTART;TZID=America/New_York:20240313T190000
DTEND;TZID=America/New_York:20240313T190000
DTSTAMP:20260422T205742
CREATED:20210618T123010Z
LAST-MODIFIED:20240426T185459Z
UID:10000714-1710356400-1710356400@petrasbar.com
SUMMARY:Karaoke with Klaytastic
DESCRIPTION:Every Wednesday at Petra’s is the best karaoke party in Charlotte. \nWith host @klaytastic!\n\n7pm-12am | No Cover | 21+ (No Exceptions)
URL:https://petrasbar.com/event/fckn-karaoke-2022-02-23-2023-08-16-2024-01-24/2024-03-13/
LOCATION:Petra’s\, 1919 Commonwealth Avenue\, Charlotte\, NC\, 28205\, United States
CATEGORIES:Featured,Karaoke,Live Music
ATTACH;FMTTYPE=image/jpeg:https://petrasbar.com/wp-content/uploads/2021/06/karaokePRINT-scaled.jpeg
END:VEVENT
BEGIN:VEVENT
DTSTART;TZID=America/New_York:20240312T190000
DTEND;TZID=America/New_York:20240312T190000
DTSTAMP:20260422T205742
CREATED:20210628T195539Z
LAST-MODIFIED:20240117T174910Z
UID:10001105-1710270000-1710270000@petrasbar.com
SUMMARY:Piano Karaoke & Sing Along with Ryan Stamey
DESCRIPTION:Pick a song\, grab the Mic\, and host Ryan Stamey will accompany you on piano while you take the stage! Come grab a drink\, sing your heart out\, make requests\, or just sit back\, relax and enjoy the show! \n8pm-11pm\n7:30 Signup\n$5 At The Door\n21+ with valid ID
URL:https://petrasbar.com/event/piano-karaoke-sing-along-with-ryan-stamey-2024-03-05/
LOCATION:Petra’s\, 1919 Commonwealth Avenue\, Charlotte\, NC\, 28205\, United States
CATEGORIES:Featured,Karaoke,Live Music,Shows
ATTACH;FMTTYPE=image/jpeg:https://petrasbar.com/wp-content/uploads/2021/06/the-tropical-piano-cesar-chavez-018796f6.jpeg
END:VEVENT
BEGIN:VEVENT
DTSTART;TZID=America/New_York:20240311T193000
DTEND;TZID=America/New_York:20240311T193000
DTSTAMP:20260422T205742
CREATED:20210617T234840Z
LAST-MODIFIED:20251002T192258Z
UID:10002122-1710185400-1710185400@petrasbar.com
SUMMARY:The Bill Hanna Legacy Jazz Session
DESCRIPTION:Doors: 7pm | Music: 7:30pm-10pm\nTickets: $7 Advance | $10 Day Of\n• 21+ with Valid ID \n  \nBill Hanna was a legend in Charlotte. He was the godfather of Jazz and we’re keeping his legacy alive each and every Monday night. Come join us to see some of Charlotte’s best musicians perform in an intimate setting. \nLimited seating is 1st come 1st serve.
URL:https://petrasbar.com/event/bill-hannas-jazz-session-2024-01-08-2024-01-08-2024-01-15/2024-03-11/
LOCATION:Petra’s\, 1919 Commonwealth Avenue\, Charlotte\, NC\, 28205\, United States
CATEGORIES:Featured,Live Music,Shows
ATTACH;FMTTYPE=image/jpeg:https://petrasbar.com/wp-content/uploads/2021/06/Hanna_2008_dcoston2.jpeg
END:VEVENT
BEGIN:VEVENT
DTSTART;TZID=America/New_York:20240309T090000
DTEND;TZID=America/New_York:20240309T140000
DTSTAMP:20260422T205742
CREATED:20240216T171913Z
LAST-MODIFIED:20240216T171913Z
UID:10001681-1709974800-1709992800@petrasbar.com
SUMMARY:Petra's Community Yard Sale
DESCRIPTION:Bar will be open!
URL:https://petrasbar.com/event/petras-community-yard-sale/
LOCATION:Petra’s\, 1919 Commonwealth Avenue\, Charlotte\, NC\, 28205\, United States
CATEGORIES:Featured
ATTACH;FMTTYPE=image/jpeg:https://petrasbar.com/wp-content/uploads/2024/02/image000000006.jpg
END:VEVENT
BEGIN:VEVENT
DTSTART;TZID=America/New_York:20240306T190000
DTEND;TZID=America/New_York:20240306T190000
DTSTAMP:20260422T205742
CREATED:20210618T123010Z
LAST-MODIFIED:20240426T185459Z
UID:10000713-1709751600-1709751600@petrasbar.com
SUMMARY:Karaoke with Klaytastic
DESCRIPTION:Every Wednesday at Petra’s is the best karaoke party in Charlotte. \nWith host @klaytastic!\n\n7pm-12am | No Cover | 21+ (No Exceptions)
URL:https://petrasbar.com/event/fckn-karaoke-2022-02-23-2023-08-16-2024-01-24/2024-03-06/
LOCATION:Petra’s\, 1919 Commonwealth Avenue\, Charlotte\, NC\, 28205\, United States
CATEGORIES:Featured,Karaoke,Live Music
ATTACH;FMTTYPE=image/jpeg:https://petrasbar.com/wp-content/uploads/2021/06/karaokePRINT-scaled.jpeg
END:VEVENT
BEGIN:VEVENT
DTSTART;TZID=America/New_York:20240304T193000
DTEND;TZID=America/New_York:20240304T193000
DTSTAMP:20260422T205742
CREATED:20210617T234840Z
LAST-MODIFIED:20251002T192258Z
UID:10002121-1709580600-1709580600@petrasbar.com
SUMMARY:The Bill Hanna Legacy Jazz Session
DESCRIPTION:Doors: 7pm | Music: 7:30pm-10pm\nTickets: $7 Advance | $10 Day Of\n• 21+ with Valid ID \n  \nBill Hanna was a legend in Charlotte. He was the godfather of Jazz and we’re keeping his legacy alive each and every Monday night. Come join us to see some of Charlotte’s best musicians perform in an intimate setting. \nLimited seating is 1st come 1st serve.
URL:https://petrasbar.com/event/bill-hannas-jazz-session-2024-01-08-2024-01-08-2024-01-15/2024-03-04/
LOCATION:Petra’s\, 1919 Commonwealth Avenue\, Charlotte\, NC\, 28205\, United States
CATEGORIES:Featured,Live Music,Shows
ATTACH;FMTTYPE=image/jpeg:https://petrasbar.com/wp-content/uploads/2021/06/Hanna_2008_dcoston2.jpeg
END:VEVENT
BEGIN:VEVENT
DTSTART;TZID=America/New_York:20240303T160000
DTEND;TZID=America/New_York:20240303T210000
DTSTAMP:20260422T205742
CREATED:20210627T185147Z
LAST-MODIFIED:20250123T175231Z
UID:10000921-1709481600-1709499600@petrasbar.com
SUMMARY:Hazy Sunday
DESCRIPTION:Highly curated. \nCharlotte’s best day party is on our back patio every 1st\, 3rd\, and 5th Sunday with Probably Will and Ray Krol. \n4pm – 9pm\n$10 at the door (enter via the alley)\n21+ with valid ID
URL:https://petrasbar.com/event/hazy-sunday/2024-03-03/
LOCATION:Petra’s\, 1919 Commonwealth Avenue\, Charlotte\, NC\, 28205\, United States
CATEGORIES:Dance,Featured,Live Music
ATTACH;FMTTYPE=image/jpeg:https://petrasbar.com/wp-content/uploads/2021/06/depositphotos_336300516-stock-photo-palm-trees-psychedelic-sky-background.jpeg
END:VEVENT
BEGIN:VEVENT
DTSTART;TZID=America/New_York:20240228T190000
DTEND;TZID=America/New_York:20240228T190000
DTSTAMP:20260422T205742
CREATED:20210618T123010Z
LAST-MODIFIED:20240426T185459Z
UID:10000712-1709146800-1709146800@petrasbar.com
SUMMARY:Karaoke with Klaytastic
DESCRIPTION:Every Wednesday at Petra’s is the best karaoke party in Charlotte. \nWith host @klaytastic!\n\n7pm-12am | No Cover | 21+ (No Exceptions)
URL:https://petrasbar.com/event/fckn-karaoke-2022-02-23-2023-08-16-2024-01-24/2024-02-28/
LOCATION:Petra’s\, 1919 Commonwealth Avenue\, Charlotte\, NC\, 28205\, United States
CATEGORIES:Featured,Karaoke,Live Music
ATTACH;FMTTYPE=image/jpeg:https://petrasbar.com/wp-content/uploads/2021/06/karaokePRINT-scaled.jpeg
END:VEVENT
BEGIN:VEVENT
DTSTART;TZID=America/New_York:20240226T193000
DTEND;TZID=America/New_York:20240226T193000
DTSTAMP:20260422T205742
CREATED:20210617T234840Z
LAST-MODIFIED:20251002T192258Z
UID:10002120-1708975800-1708975800@petrasbar.com
SUMMARY:The Bill Hanna Legacy Jazz Session
DESCRIPTION:Doors: 7pm | Music: 7:30pm-10pm\nTickets: $7 Advance | $10 Day Of\n• 21+ with Valid ID \n  \nBill Hanna was a legend in Charlotte. He was the godfather of Jazz and we’re keeping his legacy alive each and every Monday night. Come join us to see some of Charlotte’s best musicians perform in an intimate setting. \nLimited seating is 1st come 1st serve.
URL:https://petrasbar.com/event/bill-hannas-jazz-session-2024-01-08-2024-01-08-2024-01-15/2024-02-26/
LOCATION:Petra’s\, 1919 Commonwealth Avenue\, Charlotte\, NC\, 28205\, United States
CATEGORIES:Featured,Live Music,Shows
ATTACH;FMTTYPE=image/jpeg:https://petrasbar.com/wp-content/uploads/2021/06/Hanna_2008_dcoston2.jpeg
END:VEVENT
BEGIN:VEVENT
DTSTART;TZID=America/New_York:20240221T190000
DTEND;TZID=America/New_York:20240221T190000
DTSTAMP:20260422T205742
CREATED:20210618T123010Z
LAST-MODIFIED:20240426T185459Z
UID:10000711-1708542000-1708542000@petrasbar.com
SUMMARY:Karaoke with Klaytastic
DESCRIPTION:Every Wednesday at Petra’s is the best karaoke party in Charlotte. \nWith host @klaytastic!\n\n7pm-12am | No Cover | 21+ (No Exceptions)
URL:https://petrasbar.com/event/fckn-karaoke-2022-02-23-2023-08-16-2024-01-24/2024-02-21/
LOCATION:Petra’s\, 1919 Commonwealth Avenue\, Charlotte\, NC\, 28205\, United States
CATEGORIES:Featured,Karaoke,Live Music
ATTACH;FMTTYPE=image/jpeg:https://petrasbar.com/wp-content/uploads/2021/06/karaokePRINT-scaled.jpeg
END:VEVENT
BEGIN:VEVENT
DTSTART;TZID=America/New_York:20240219T193000
DTEND;TZID=America/New_York:20240219T193000
DTSTAMP:20260422T205742
CREATED:20210617T234840Z
LAST-MODIFIED:20251002T192258Z
UID:10002119-1708371000-1708371000@petrasbar.com
SUMMARY:The Bill Hanna Legacy Jazz Session
DESCRIPTION:Doors: 7pm | Music: 7:30pm-10pm\nTickets: $7 Advance | $10 Day Of\n• 21+ with Valid ID \n  \nBill Hanna was a legend in Charlotte. He was the godfather of Jazz and we’re keeping his legacy alive each and every Monday night. Come join us to see some of Charlotte’s best musicians perform in an intimate setting. \nLimited seating is 1st come 1st serve.
URL:https://petrasbar.com/event/bill-hannas-jazz-session-2024-01-08-2024-01-08-2024-01-15/2024-02-19/
LOCATION:Petra’s\, 1919 Commonwealth Avenue\, Charlotte\, NC\, 28205\, United States
CATEGORIES:Featured,Live Music,Shows
ATTACH;FMTTYPE=image/jpeg:https://petrasbar.com/wp-content/uploads/2021/06/Hanna_2008_dcoston2.jpeg
END:VEVENT
BEGIN:VEVENT
DTSTART;TZID=America/New_York:20240218T160000
DTEND;TZID=America/New_York:20240218T210000
DTSTAMP:20260422T205742
CREATED:20250806T153405Z
LAST-MODIFIED:20250806T153405Z
UID:10000993-1708272000-1708290000@petrasbar.com
SUMMARY:Hazy Sunday
DESCRIPTION:Highly curated. \nCharlotte’s best day party is on our back patio every 1st\, 3rd\, and 5th Sunday with Probably Will and Ray Krol. \n4pm – 9pm\n$10 at the door (enter via the alley)\n21+ with valid ID
URL:https://petrasbar.com/event/hazy-sunday/2024-02-18/
LOCATION:Petra’s\, 1919 Commonwealth Avenue\, Charlotte\, NC\, 28205\, United States
CATEGORIES:Dance,Featured,Live Music
ATTACH;FMTTYPE=image/jpeg:https://petrasbar.com/wp-content/uploads/2021/06/depositphotos_336300516-stock-photo-palm-trees-psychedelic-sky-background.jpeg
END:VEVENT
BEGIN:VEVENT
DTSTART;TZID=America/New_York:20240214T190000
DTEND;TZID=America/New_York:20240214T190000
DTSTAMP:20260422T205742
CREATED:20210618T123010Z
LAST-MODIFIED:20240426T185459Z
UID:10000710-1707937200-1707937200@petrasbar.com
SUMMARY:Karaoke with Klaytastic
DESCRIPTION:Every Wednesday at Petra’s is the best karaoke party in Charlotte. \nWith host @klaytastic!\n\n7pm-12am | No Cover | 21+ (No Exceptions)
URL:https://petrasbar.com/event/fckn-karaoke-2022-02-23-2023-08-16-2024-01-24/2024-02-14/
LOCATION:Petra’s\, 1919 Commonwealth Avenue\, Charlotte\, NC\, 28205\, United States
CATEGORIES:Featured,Karaoke,Live Music
ATTACH;FMTTYPE=image/jpeg:https://petrasbar.com/wp-content/uploads/2021/06/karaokePRINT-scaled.jpeg
END:VEVENT
BEGIN:VEVENT
DTSTART;TZID=America/New_York:20240212T193000
DTEND;TZID=America/New_York:20240212T193000
DTSTAMP:20260422T205742
CREATED:20210617T234840Z
LAST-MODIFIED:20251002T192258Z
UID:10002118-1707766200-1707766200@petrasbar.com
SUMMARY:The Bill Hanna Legacy Jazz Session
DESCRIPTION:Doors: 7pm | Music: 7:30pm-10pm\nTickets: $7 Advance | $10 Day Of\n• 21+ with Valid ID \n  \nBill Hanna was a legend in Charlotte. He was the godfather of Jazz and we’re keeping his legacy alive each and every Monday night. Come join us to see some of Charlotte’s best musicians perform in an intimate setting. \nLimited seating is 1st come 1st serve.
URL:https://petrasbar.com/event/bill-hannas-jazz-session-2024-01-08-2024-01-08-2024-01-15/2024-02-12/
LOCATION:Petra’s\, 1919 Commonwealth Avenue\, Charlotte\, NC\, 28205\, United States
CATEGORIES:Featured,Live Music,Shows
ATTACH;FMTTYPE=image/jpeg:https://petrasbar.com/wp-content/uploads/2021/06/Hanna_2008_dcoston2.jpeg
END:VEVENT
BEGIN:VEVENT
DTSTART;TZID=America/New_York:20240207T190000
DTEND;TZID=America/New_York:20240207T190000
DTSTAMP:20260422T205742
CREATED:20210618T123010Z
LAST-MODIFIED:20240426T185459Z
UID:10000709-1707332400-1707332400@petrasbar.com
SUMMARY:Karaoke with Klaytastic
DESCRIPTION:Every Wednesday at Petra’s is the best karaoke party in Charlotte. \nWith host @klaytastic!\n\n7pm-12am | No Cover | 21+ (No Exceptions)
URL:https://petrasbar.com/event/fckn-karaoke-2022-02-23-2023-08-16-2024-01-24/2024-02-07/
LOCATION:Petra’s\, 1919 Commonwealth Avenue\, Charlotte\, NC\, 28205\, United States
CATEGORIES:Featured,Karaoke,Live Music
ATTACH;FMTTYPE=image/jpeg:https://petrasbar.com/wp-content/uploads/2021/06/karaokePRINT-scaled.jpeg
END:VEVENT
BEGIN:VEVENT
DTSTART;TZID=America/New_York:20240206T190000
DTEND;TZID=America/New_York:20240206T190000
DTSTAMP:20260422T205742
CREATED:20210628T195539Z
LAST-MODIFIED:20230202T153934Z
UID:10000133-1707246000-1707246000@petrasbar.com
SUMMARY:Piano Karaoke & Sing Along with Ryan Stamey
DESCRIPTION:Every 1st Tuesday! \nPick a song\, grab the Mic\, and host Ryan Stamey will accompany you on piano while you take the stage! Come grab a drink\, sing your heart out\, make requests\, or just sit back\, relax and enjoy the show! \n8pm-11pm\n7:30 Signup\n$5 At The Door\n21+ with valid ID
URL:https://petrasbar.com/event/piano-karaoke-sing-along-with-ryan-stamey/2024-02-06/
LOCATION:Petra’s\, 1919 Commonwealth Avenue\, Charlotte\, NC\, 28205\, United States
CATEGORIES:Featured,Karaoke,Live Music,Shows
ATTACH;FMTTYPE=image/jpeg:https://petrasbar.com/wp-content/uploads/2021/06/the-tropical-piano-cesar-chavez-018796f6.jpeg
END:VEVENT
BEGIN:VEVENT
DTSTART;TZID=America/New_York:20240205T193000
DTEND;TZID=America/New_York:20240205T193000
DTSTAMP:20260422T205742
CREATED:20210617T234840Z
LAST-MODIFIED:20251002T192258Z
UID:10002117-1707161400-1707161400@petrasbar.com
SUMMARY:The Bill Hanna Legacy Jazz Session
DESCRIPTION:Doors: 7pm | Music: 7:30pm-10pm\nTickets: $7 Advance | $10 Day Of\n• 21+ with Valid ID \n  \nBill Hanna was a legend in Charlotte. He was the godfather of Jazz and we’re keeping his legacy alive each and every Monday night. Come join us to see some of Charlotte’s best musicians perform in an intimate setting. \nLimited seating is 1st come 1st serve.
URL:https://petrasbar.com/event/bill-hannas-jazz-session-2024-01-08-2024-01-08-2024-01-15/2024-02-05/
LOCATION:Petra’s\, 1919 Commonwealth Avenue\, Charlotte\, NC\, 28205\, United States
CATEGORIES:Featured,Live Music,Shows
ATTACH;FMTTYPE=image/jpeg:https://petrasbar.com/wp-content/uploads/2021/06/Hanna_2008_dcoston2.jpeg
END:VEVENT
BEGIN:VEVENT
DTSTART;TZID=America/New_York:20240204T160000
DTEND;TZID=America/New_York:20240204T210000
DTSTAMP:20260422T205742
CREATED:20210627T185147Z
LAST-MODIFIED:20250123T175231Z
UID:10000920-1707062400-1707080400@petrasbar.com
SUMMARY:Hazy Sunday
DESCRIPTION:Highly curated. \nCharlotte’s best day party is on our back patio every 1st\, 3rd\, and 5th Sunday with Probably Will and Ray Krol. \n4pm – 9pm\n$10 at the door (enter via the alley)\n21+ with valid ID
URL:https://petrasbar.com/event/hazy-sunday/2024-02-04/
LOCATION:Petra’s\, 1919 Commonwealth Avenue\, Charlotte\, NC\, 28205\, United States
CATEGORIES:Dance,Featured,Live Music
ATTACH;FMTTYPE=image/jpeg:https://petrasbar.com/wp-content/uploads/2021/06/depositphotos_336300516-stock-photo-palm-trees-psychedelic-sky-background.jpeg
END:VEVENT
BEGIN:VEVENT
DTSTART;TZID=America/New_York:20240131T190000
DTEND;TZID=America/New_York:20240131T190000
DTSTAMP:20260422T205742
CREATED:20210618T123010Z
LAST-MODIFIED:20240426T185459Z
UID:10000708-1706727600-1706727600@petrasbar.com
SUMMARY:Karaoke with Klaytastic
DESCRIPTION:Every Wednesday at Petra’s is the best karaoke party in Charlotte. \nWith host @klaytastic!\n\n7pm-12am | No Cover | 21+ (No Exceptions)
URL:https://petrasbar.com/event/fckn-karaoke-2022-02-23-2023-08-16-2024-01-24/2024-01-31/
LOCATION:Petra’s\, 1919 Commonwealth Avenue\, Charlotte\, NC\, 28205\, United States
CATEGORIES:Featured,Karaoke,Live Music
ATTACH;FMTTYPE=image/jpeg:https://petrasbar.com/wp-content/uploads/2021/06/karaokePRINT-scaled.jpeg
END:VEVENT
BEGIN:VEVENT
DTSTART;TZID=America/New_York:20240129T193000
DTEND;TZID=America/New_York:20240129T193000
DTSTAMP:20260422T205742
CREATED:20210617T234840Z
LAST-MODIFIED:20251002T192258Z
UID:10002116-1706556600-1706556600@petrasbar.com
SUMMARY:The Bill Hanna Legacy Jazz Session
DESCRIPTION:Doors: 7pm | Music: 7:30pm-10pm\nTickets: $7 Advance | $10 Day Of\n• 21+ with Valid ID \n  \nBill Hanna was a legend in Charlotte. He was the godfather of Jazz and we’re keeping his legacy alive each and every Monday night. Come join us to see some of Charlotte’s best musicians perform in an intimate setting. \nLimited seating is 1st come 1st serve.
URL:https://petrasbar.com/event/bill-hannas-jazz-session-2024-01-08-2024-01-08-2024-01-15/2024-01-29/
LOCATION:Petra’s\, 1919 Commonwealth Avenue\, Charlotte\, NC\, 28205\, United States
CATEGORIES:Featured,Live Music,Shows
ATTACH;FMTTYPE=image/jpeg:https://petrasbar.com/wp-content/uploads/2021/06/Hanna_2008_dcoston2.jpeg
END:VEVENT
BEGIN:VEVENT
DTSTART;TZID=America/New_York:20240124T190000
DTEND;TZID=America/New_York:20240124T190000
DTSTAMP:20260422T205742
CREATED:20210618T123010Z
LAST-MODIFIED:20240426T185459Z
UID:10000707-1706122800-1706122800@petrasbar.com
SUMMARY:Karaoke with Klaytastic
DESCRIPTION:Every Wednesday at Petra’s is the best karaoke party in Charlotte. \nWith host @klaytastic!\n\n7pm-12am | No Cover | 21+ (No Exceptions)
URL:https://petrasbar.com/event/fckn-karaoke-2022-02-23-2023-08-16-2024-01-24/2024-01-24/
LOCATION:Petra’s\, 1919 Commonwealth Avenue\, Charlotte\, NC\, 28205\, United States
CATEGORIES:Featured,Karaoke,Live Music
ATTACH;FMTTYPE=image/jpeg:https://petrasbar.com/wp-content/uploads/2021/06/karaokePRINT-scaled.jpeg
END:VEVENT
BEGIN:VEVENT
DTSTART;TZID=America/New_York:20240122T193000
DTEND;TZID=America/New_York:20240122T193000
DTSTAMP:20260422T205742
CREATED:20210617T234840Z
LAST-MODIFIED:20251002T192258Z
UID:10002115-1705951800-1705951800@petrasbar.com
SUMMARY:The Bill Hanna Legacy Jazz Session
DESCRIPTION:Doors: 7pm | Music: 7:30pm-10pm\nTickets: $7 Advance | $10 Day Of\n• 21+ with Valid ID \n  \nBill Hanna was a legend in Charlotte. He was the godfather of Jazz and we’re keeping his legacy alive each and every Monday night. Come join us to see some of Charlotte’s best musicians perform in an intimate setting. \nLimited seating is 1st come 1st serve.
URL:https://petrasbar.com/event/bill-hannas-jazz-session-2024-01-08-2024-01-08-2024-01-15/2024-01-22/
LOCATION:Petra’s\, 1919 Commonwealth Avenue\, Charlotte\, NC\, 28205\, United States
CATEGORIES:Featured,Live Music,Shows
ATTACH;FMTTYPE=image/jpeg:https://petrasbar.com/wp-content/uploads/2021/06/Hanna_2008_dcoston2.jpeg
END:VEVENT
BEGIN:VEVENT
DTSTART;TZID=America/New_York:20240121T160000
DTEND;TZID=America/New_York:20240121T210000
DTSTAMP:20260422T205742
CREATED:20250806T153405Z
LAST-MODIFIED:20250806T153405Z
UID:10000992-1705852800-1705870800@petrasbar.com
SUMMARY:Hazy Sunday
DESCRIPTION:Highly curated. \nCharlotte’s best day party is on our back patio every 1st\, 3rd\, and 5th Sunday with Probably Will and Ray Krol. \n4pm – 9pm\n$10 at the door (enter via the alley)\n21+ with valid ID
URL:https://petrasbar.com/event/hazy-sunday/2024-01-21/
LOCATION:Petra’s\, 1919 Commonwealth Avenue\, Charlotte\, NC\, 28205\, United States
CATEGORIES:Dance,Featured,Live Music
ATTACH;FMTTYPE=image/jpeg:https://petrasbar.com/wp-content/uploads/2021/06/depositphotos_336300516-stock-photo-palm-trees-psychedelic-sky-background.jpeg
END:VEVENT
BEGIN:VEVENT
DTSTART;TZID=America/New_York:20240115T193000
DTEND;TZID=America/New_York:20240115T193000
DTSTAMP:20260422T205742
CREATED:20210617T234840Z
LAST-MODIFIED:20251002T192258Z
UID:10002114-1705347000-1705347000@petrasbar.com
SUMMARY:The Bill Hanna Legacy Jazz Session
DESCRIPTION:Doors: 7pm | Music: 7:30pm-10pm\nTickets: $7 Advance | $10 Day Of\n• 21+ with Valid ID \n  \nBill Hanna was a legend in Charlotte. He was the godfather of Jazz and we’re keeping his legacy alive each and every Monday night. Come join us to see some of Charlotte’s best musicians perform in an intimate setting. \nLimited seating is 1st come 1st serve.
URL:https://petrasbar.com/event/bill-hannas-jazz-session-2024-01-08-2024-01-08-2024-01-15/2024-01-15/
LOCATION:Petra’s\, 1919 Commonwealth Avenue\, Charlotte\, NC\, 28205\, United States
CATEGORIES:Featured,Live Music,Shows
ATTACH;FMTTYPE=image/jpeg:https://petrasbar.com/wp-content/uploads/2021/06/Hanna_2008_dcoston2.jpeg
END:VEVENT
BEGIN:VEVENT
DTSTART;TZID=America/New_York:20240113T200000
DTEND;TZID=America/New_York:20240113T200000
DTSTAMP:20260422T205742
CREATED:20230829T010147Z
LAST-MODIFIED:20231229T221132Z
UID:10001546-1705176000-1705176000@petrasbar.com
SUMMARY:UltraViolet
DESCRIPTION:Doors: 8pm | Show: 9pm\nTickets: $10\n• 21+ with valid ID\n\nUltraViolet: /ˌəltrəˈvī(ə)lət/\nvery queer\, with a reverence for the divine feminine\n\n\nDance all night\, discover answers to your questions about life and love\, and get glammed <3 \nSapphic Night is for all of the LGBTIA+ folks out there who revere the divine feminine. Trans-inclusive and gender-expansive. \nMusic by DJ @blackasthecosmos\nTarot readings by @banditibliss\nGlitter and glam by @lexs.lethal.looks\nSupporting @timeoutyouthcenter
URL:https://petrasbar.com/event/ultraviolet/
LOCATION:Petra’s\, 1919 Commonwealth Avenue\, Charlotte\, NC\, 28205\, United States
CATEGORIES:Dance,Featured,Live Music
ATTACH;FMTTYPE=image/jpeg:https://petrasbar.com/wp-content/uploads/2023/08/image000000004.jpg
END:VEVENT
BEGIN:VEVENT
DTSTART;TZID=America/New_York:20240109T190000
DTEND;TZID=America/New_York:20240109T190000
DTSTAMP:20260422T205742
CREATED:20210628T195539Z
LAST-MODIFIED:20231208T031635Z
UID:10001104-1704826800-1704826800@petrasbar.com
SUMMARY:Piano Karaoke & Sing Along with Ryan Stamey
DESCRIPTION:Pick a song\, grab the Mic\, and host Ryan Stamey will accompany you on piano while you take the stage! Come grab a drink\, sing your heart out\, make requests\, or just sit back\, relax and enjoy the show! \n8pm-11pm\n7:30 Signup\n$5 At The Door\n21+ with valid ID
URL:https://petrasbar.com/event/piano-karaoke-sing-along-with-ryan-stamey-2024-01-02/
LOCATION:Petra’s\, 1919 Commonwealth Avenue\, Charlotte\, NC\, 28205\, United States
CATEGORIES:Featured,Karaoke,Live Music,Shows
ATTACH;FMTTYPE=image/jpeg:https://petrasbar.com/wp-content/uploads/2021/06/the-tropical-piano-cesar-chavez-018796f6.jpeg
END:VEVENT
BEGIN:VEVENT
DTSTART;TZID=America/New_York:20240108T190000
DTEND;TZID=America/New_York:20240108T190000
DTSTAMP:20260422T205742
CREATED:20210617T234840Z
LAST-MODIFIED:20231211T122943Z
UID:10000502-1704740400-1704740400@petrasbar.com
SUMMARY:The Bill Hanna Legacy Jazz Session
DESCRIPTION:Doors: 7pm | Music: 7:30pm-10pm \nTickets: $7 Advance | $10 Day Of \n• 21+ with Valid ID \nBill Hanna was a legend in Charlotte. He was the godfather of Jazz and we’re keeping his legacy alive each and every Monday night. Come join us to see some of Charlotte’s best musicians perform in an intimate setting. \nLimited seating is 1st come 1st serve.
URL:https://petrasbar.com/event/bill-hannas-jazz-session-2024-01-08/
LOCATION:Petra’s\, 1919 Commonwealth Avenue\, Charlotte\, NC\, 28205\, United States
CATEGORIES:Featured,Live Music,Shows
ATTACH;FMTTYPE=image/jpeg:https://petrasbar.com/wp-content/uploads/2021/06/Hanna_2008_dcoston2.jpeg
END:VEVENT
BEGIN:VEVENT
DTSTART;TZID=America/New_York:20240107T160000
DTEND;TZID=America/New_York:20240107T210000
DTSTAMP:20260422T205742
CREATED:20210627T185147Z
LAST-MODIFIED:20250123T175231Z
UID:10000919-1704643200-1704661200@petrasbar.com
SUMMARY:Hazy Sunday
DESCRIPTION:Highly curated. \nCharlotte’s best day party is on our back patio every 1st\, 3rd\, and 5th Sunday with Probably Will and Ray Krol. \n4pm – 9pm\n$10 at the door (enter via the alley)\n21+ with valid ID
URL:https://petrasbar.com/event/hazy-sunday/2024-01-07/
LOCATION:Petra’s\, 1919 Commonwealth Avenue\, Charlotte\, NC\, 28205\, United States
CATEGORIES:Dance,Featured,Live Music
ATTACH;FMTTYPE=image/jpeg:https://petrasbar.com/wp-content/uploads/2021/06/depositphotos_336300516-stock-photo-palm-trees-psychedelic-sky-background.jpeg
END:VEVENT
BEGIN:VEVENT
DTSTART;VALUE=DATE:20240106
DTEND;VALUE=DATE:20240108
DTSTAMP:20260422T205742
CREATED:20210704T023417Z
LAST-MODIFIED:20231211T120210Z
UID:10001101-1704510000-1704596399@petrasbar.com
SUMMARY:CLOSED
DESCRIPTION:Sorry we’re closed.  \nWe’re either enjoying a much needed day off or we’re hosting a private event.  \nSee ya next time!
URL:https://petrasbar.com/event/closed/2024-01-06/
LOCATION:Petra’s\, 1919 Commonwealth Avenue\, Charlotte\, NC\, 28205\, United States
ATTACH;FMTTYPE=image/jpeg:https://petrasbar.com/wp-content/uploads/2021/07/Closed.jpeg
END:VEVENT
BEGIN:VEVENT
DTSTART;VALUE=DATE:20240105
DTEND;VALUE=DATE:20240107
DTSTAMP:20260422T205742
CREATED:20210704T023417Z
LAST-MODIFIED:20231211T120210Z
UID:10001100-1704423600-1704509999@petrasbar.com
SUMMARY:CLOSED
DESCRIPTION:Sorry we’re closed.  \nWe’re either enjoying a much needed day off or we’re hosting a private event.  \nSee ya next time!
URL:https://petrasbar.com/event/closed/2024-01-05/
LOCATION:Petra’s\, 1919 Commonwealth Avenue\, Charlotte\, NC\, 28205\, United States
ATTACH;FMTTYPE=image/jpeg:https://petrasbar.com/wp-content/uploads/2021/07/Closed.jpeg
END:VEVENT
END:VCALENDAR