BEGIN:VCALENDAR
VERSION:2.0
PRODID:-//Petra&#039;s Bar - ECPv6.15.20//NONSGML v1.0//EN
CALSCALE:GREGORIAN
METHOD:PUBLISH
X-WR-CALNAME:Petra&#039;s Bar
X-ORIGINAL-URL:https://petrasbar.com
X-WR-CALDESC:Events for Petra&#039;s Bar
REFRESH-INTERVAL;VALUE=DURATION:PT1H
X-Robots-Tag:noindex
X-PUBLISHED-TTL:PT1H
BEGIN:VTIMEZONE
TZID:America/New_York
BEGIN:DAYLIGHT
TZOFFSETFROM:-0500
TZOFFSETTO:-0400
TZNAME:EDT
DTSTART:20220313T070000
END:DAYLIGHT
BEGIN:STANDARD
TZOFFSETFROM:-0400
TZOFFSETTO:-0500
TZNAME:EST
DTSTART:20221106T060000
END:STANDARD
BEGIN:DAYLIGHT
TZOFFSETFROM:-0500
TZOFFSETTO:-0400
TZNAME:EDT
DTSTART:20230312T070000
END:DAYLIGHT
BEGIN:STANDARD
TZOFFSETFROM:-0400
TZOFFSETTO:-0500
TZNAME:EST
DTSTART:20231105T060000
END:STANDARD
BEGIN:DAYLIGHT
TZOFFSETFROM:-0500
TZOFFSETTO:-0400
TZNAME:EDT
DTSTART:20240310T070000
END:DAYLIGHT
BEGIN:STANDARD
TZOFFSETFROM:-0400
TZOFFSETTO:-0500
TZNAME:EST
DTSTART:20241103T060000
END:STANDARD
END:VTIMEZONE
BEGIN:VTIMEZONE
TZID:America/New_York
BEGIN:DAYLIGHT
TZOFFSETFROM:-0500
TZOFFSETTO:-0400
TZNAME:EDT
DTSTART:20220313T070000
END:DAYLIGHT
BEGIN:STANDARD
TZOFFSETFROM:-0400
TZOFFSETTO:-0500
TZNAME:EST
DTSTART:20221106T060000
END:STANDARD
BEGIN:DAYLIGHT
TZOFFSETFROM:-0500
TZOFFSETTO:-0400
TZNAME:EDT
DTSTART:20230312T070000
END:DAYLIGHT
BEGIN:STANDARD
TZOFFSETFROM:-0400
TZOFFSETTO:-0500
TZNAME:EST
DTSTART:20231105T060000
END:STANDARD
BEGIN:DAYLIGHT
TZOFFSETFROM:-0500
TZOFFSETTO:-0400
TZNAME:EDT
DTSTART:20240310T070000
END:DAYLIGHT
BEGIN:STANDARD
TZOFFSETFROM:-0400
TZOFFSETTO:-0500
TZNAME:EST
DTSTART:20241103T060000
END:STANDARD
END:VTIMEZONE
BEGIN:VEVENT
DTSTART;VALUE=DATE:20231228
DTEND;VALUE=DATE:20231230
DTSTAMP:20260423T094535
CREATED:20210704T023417Z
LAST-MODIFIED:20231211T120210Z
UID:10001095-1703732400-1703818799@petrasbar.com
SUMMARY:CLOSED
DESCRIPTION:Sorry we’re closed.  \nWe’re either enjoying a much needed day off or we’re hosting a private event.  \nSee ya next time!
URL:https://petrasbar.com/event/closed/2023-12-28/
LOCATION:Petra’s\, 1919 Commonwealth Avenue\, Charlotte\, NC\, 28205\, United States
ATTACH;FMTTYPE=image/jpeg:https://petrasbar.com/wp-content/uploads/2021/07/Closed.jpeg
END:VEVENT
BEGIN:VEVENT
DTSTART;VALUE=DATE:20231225
DTEND;VALUE=DATE:20231227
DTSTAMP:20260423T094535
CREATED:20210704T023417Z
LAST-MODIFIED:20231211T120210Z
UID:10001094-1703473200-1703559599@petrasbar.com
SUMMARY:CLOSED
DESCRIPTION:Sorry we’re closed.  \nWe’re either enjoying a much needed day off or we’re hosting a private event.  \nSee ya next time!
URL:https://petrasbar.com/event/closed/2023-12-25/
LOCATION:Petra’s\, 1919 Commonwealth Avenue\, Charlotte\, NC\, 28205\, United States
ATTACH;FMTTYPE=image/jpeg:https://petrasbar.com/wp-content/uploads/2021/07/Closed.jpeg
END:VEVENT
BEGIN:VEVENT
DTSTART;VALUE=DATE:20231224
DTEND;VALUE=DATE:20231226
DTSTAMP:20260423T094535
CREATED:20210704T023417Z
LAST-MODIFIED:20231211T120210Z
UID:10001093-1703386800-1703473199@petrasbar.com
SUMMARY:CLOSED
DESCRIPTION:Sorry we’re closed.  \nWe’re either enjoying a much needed day off or we’re hosting a private event.  \nSee ya next time!
URL:https://petrasbar.com/event/closed/2023-12-24/
LOCATION:Petra’s\, 1919 Commonwealth Avenue\, Charlotte\, NC\, 28205\, United States
ATTACH;FMTTYPE=image/jpeg:https://petrasbar.com/wp-content/uploads/2021/07/Closed.jpeg
END:VEVENT
BEGIN:VEVENT
DTSTART;VALUE=DATE:20231221
DTEND;VALUE=DATE:20231223
DTSTAMP:20260423T094535
CREATED:20210704T023417Z
LAST-MODIFIED:20231211T120210Z
UID:10001092-1703127600-1703213999@petrasbar.com
SUMMARY:CLOSED
DESCRIPTION:Sorry we’re closed.  \nWe’re either enjoying a much needed day off or we’re hosting a private event.  \nSee ya next time!
URL:https://petrasbar.com/event/closed/2023-12-21/
LOCATION:Petra’s\, 1919 Commonwealth Avenue\, Charlotte\, NC\, 28205\, United States
ATTACH;FMTTYPE=image/jpeg:https://petrasbar.com/wp-content/uploads/2021/07/Closed.jpeg
END:VEVENT
BEGIN:VEVENT
DTSTART;TZID=America/New_York:20231217T160000
DTEND;TZID=America/New_York:20231217T210000
DTSTAMP:20260423T094535
CREATED:20250806T153405Z
LAST-MODIFIED:20250806T153405Z
UID:10000991-1702828800-1702846800@petrasbar.com
SUMMARY:Hazy Sunday
DESCRIPTION:Highly curated. \nCharlotte’s best day party is on our back patio every 1st\, 3rd\, and 5th Sunday with Probably Will and Ray Krol. \n4pm – 9pm\n$10 at the door (enter via the alley)\n21+ with valid ID
URL:https://petrasbar.com/event/hazy-sunday/2023-12-17/
LOCATION:Petra’s\, 1919 Commonwealth Avenue\, Charlotte\, NC\, 28205\, United States
CATEGORIES:Dance,Featured,Live Music
ATTACH;FMTTYPE=image/jpeg:https://petrasbar.com/wp-content/uploads/2021/06/depositphotos_336300516-stock-photo-palm-trees-psychedelic-sky-background.jpeg
END:VEVENT
BEGIN:VEVENT
DTSTART;TZID=America/New_York:20231205T190000
DTEND;TZID=America/New_York:20231205T190000
DTSTAMP:20260423T094535
CREATED:20210628T195539Z
LAST-MODIFIED:20230202T153934Z
UID:10000132-1701802800-1701802800@petrasbar.com
SUMMARY:Piano Karaoke & Sing Along with Ryan Stamey
DESCRIPTION:Every 1st Tuesday! \nPick a song\, grab the Mic\, and host Ryan Stamey will accompany you on piano while you take the stage! Come grab a drink\, sing your heart out\, make requests\, or just sit back\, relax and enjoy the show! \n8pm-11pm\n7:30 Signup\n$5 At The Door\n21+ with valid ID
URL:https://petrasbar.com/event/piano-karaoke-sing-along-with-ryan-stamey/2023-12-05/
LOCATION:Petra’s\, 1919 Commonwealth Avenue\, Charlotte\, NC\, 28205\, United States
CATEGORIES:Featured,Karaoke,Live Music,Shows
ATTACH;FMTTYPE=image/jpeg:https://petrasbar.com/wp-content/uploads/2021/06/the-tropical-piano-cesar-chavez-018796f6.jpeg
END:VEVENT
BEGIN:VEVENT
DTSTART;TZID=America/New_York:20231203T160000
DTEND;TZID=America/New_York:20231203T210000
DTSTAMP:20260423T094535
CREATED:20210627T185147Z
LAST-MODIFIED:20250123T175231Z
UID:10000918-1701619200-1701637200@petrasbar.com
SUMMARY:Hazy Sunday
DESCRIPTION:Highly curated. \nCharlotte’s best day party is on our back patio every 1st\, 3rd\, and 5th Sunday with Probably Will and Ray Krol. \n4pm – 9pm\n$10 at the door (enter via the alley)\n21+ with valid ID
URL:https://petrasbar.com/event/hazy-sunday/2023-12-03/
LOCATION:Petra’s\, 1919 Commonwealth Avenue\, Charlotte\, NC\, 28205\, United States
CATEGORIES:Dance,Featured,Live Music
ATTACH;FMTTYPE=image/jpeg:https://petrasbar.com/wp-content/uploads/2021/06/depositphotos_336300516-stock-photo-palm-trees-psychedelic-sky-background.jpeg
END:VEVENT
BEGIN:VEVENT
DTSTART;TZID=America/New_York:20231201T200000
DTEND;TZID=America/New_York:20231201T200000
DTSTAMP:20260423T094535
CREATED:20231121T222040Z
LAST-MODIFIED:20231124T173959Z
UID:10001633-1701460800-1701460800@petrasbar.com
SUMMARY:Petra's 5th Annual Staff & Friends Art Show
DESCRIPTION:Show @ 9pm!\nTickets: $7 Advance | $10 Day Of\n• 21+ with valid ID\n\n\nPetra’s 5th Annual Staff and Friends art show\, featuring art by Petra’s staff + a few of our friends!\n\nMusic by Flannelmouth | Elonzo Wesley | Boy A/C | DJ Fat Keith Richards
URL:https://petrasbar.com/event/petras-annual-staff-friends-art-show/
LOCATION:Petra’s\, 1919 Commonwealth Avenue\, Charlotte\, NC\, 28205\, United States
CATEGORIES:Gallery Opening,Live Music,Shows
ATTACH;FMTTYPE=image/jpeg:https://petrasbar.com/wp-content/uploads/2023/11/12.1-scaled.jpeg
END:VEVENT
BEGIN:VEVENT
DTSTART;TZID=America/New_York:20231119T160000
DTEND;TZID=America/New_York:20231119T210000
DTSTAMP:20260423T094535
CREATED:20250806T153405Z
LAST-MODIFIED:20250806T153405Z
UID:10000990-1700409600-1700427600@petrasbar.com
SUMMARY:Hazy Sunday
DESCRIPTION:Highly curated. \nCharlotte’s best day party is on our back patio every 1st\, 3rd\, and 5th Sunday with Probably Will and Ray Krol. \n4pm – 9pm\n$10 at the door (enter via the alley)\n21+ with valid ID
URL:https://petrasbar.com/event/hazy-sunday/2023-11-19/
LOCATION:Petra’s\, 1919 Commonwealth Avenue\, Charlotte\, NC\, 28205\, United States
CATEGORIES:Dance,Featured,Live Music
ATTACH;FMTTYPE=image/jpeg:https://petrasbar.com/wp-content/uploads/2021/06/depositphotos_336300516-stock-photo-palm-trees-psychedelic-sky-background.jpeg
END:VEVENT
BEGIN:VEVENT
DTSTART;TZID=America/New_York:20231107T190000
DTEND;TZID=America/New_York:20231107T190000
DTSTAMP:20260423T094535
CREATED:20210628T195539Z
LAST-MODIFIED:20230202T153934Z
UID:10000131-1699383600-1699383600@petrasbar.com
SUMMARY:Piano Karaoke & Sing Along with Ryan Stamey
DESCRIPTION:Every 1st Tuesday! \nPick a song\, grab the Mic\, and host Ryan Stamey will accompany you on piano while you take the stage! Come grab a drink\, sing your heart out\, make requests\, or just sit back\, relax and enjoy the show! \n8pm-11pm\n7:30 Signup\n$5 At The Door\n21+ with valid ID
URL:https://petrasbar.com/event/piano-karaoke-sing-along-with-ryan-stamey/2023-11-07/
LOCATION:Petra’s\, 1919 Commonwealth Avenue\, Charlotte\, NC\, 28205\, United States
CATEGORIES:Featured,Karaoke,Live Music,Shows
ATTACH;FMTTYPE=image/jpeg:https://petrasbar.com/wp-content/uploads/2021/06/the-tropical-piano-cesar-chavez-018796f6.jpeg
END:VEVENT
BEGIN:VEVENT
DTSTART;TZID=America/New_York:20231105T160000
DTEND;TZID=America/New_York:20231105T210000
DTSTAMP:20260423T094535
CREATED:20210627T185147Z
LAST-MODIFIED:20250123T175231Z
UID:10000917-1699200000-1699218000@petrasbar.com
SUMMARY:Hazy Sunday
DESCRIPTION:Highly curated. \nCharlotte’s best day party is on our back patio every 1st\, 3rd\, and 5th Sunday with Probably Will and Ray Krol. \n4pm – 9pm\n$10 at the door (enter via the alley)\n21+ with valid ID
URL:https://petrasbar.com/event/hazy-sunday/2023-11-05/
LOCATION:Petra’s\, 1919 Commonwealth Avenue\, Charlotte\, NC\, 28205\, United States
CATEGORIES:Dance,Featured,Live Music
ATTACH;FMTTYPE=image/jpeg:https://petrasbar.com/wp-content/uploads/2021/06/depositphotos_336300516-stock-photo-palm-trees-psychedelic-sky-background.jpeg
END:VEVENT
BEGIN:VEVENT
DTSTART;TZID=America/New_York:20231029T160000
DTEND;TZID=America/New_York:20231029T210000
DTSTAMP:20260423T094535
CREATED:20250806T153407Z
LAST-MODIFIED:20250806T153407Z
UID:10001068-1698595200-1698613200@petrasbar.com
SUMMARY:Hazy Sunday
DESCRIPTION:Highly curated. \nCharlotte’s best day party is on our back patio every 1st\, 3rd\, and 5th Sunday with Probably Will and Ray Krol. \n4pm – 9pm\n$10 at the door (enter via the alley)\n21+ with valid ID
URL:https://petrasbar.com/event/hazy-sunday/2023-10-29/
LOCATION:Petra’s\, 1919 Commonwealth Avenue\, Charlotte\, NC\, 28205\, United States
CATEGORIES:Dance,Featured,Live Music
ATTACH;FMTTYPE=image/jpeg:https://petrasbar.com/wp-content/uploads/2021/06/depositphotos_336300516-stock-photo-palm-trees-psychedelic-sky-background.jpeg
END:VEVENT
BEGIN:VEVENT
DTSTART;TZID=America/New_York:20231029T160000
DTEND;TZID=America/New_York:20231029T210000
DTSTAMP:20260423T094535
CREATED:20250806T153406Z
LAST-MODIFIED:20250806T153406Z
UID:10001044-1698595200-1698613200@petrasbar.com
SUMMARY:Hazy Sunday
DESCRIPTION:Highly curated. \nCharlotte’s best day party is on our back patio every 1st\, 3rd\, and 5th Sunday with Probably Will and Ray Krol. \n4pm – 9pm\n$10 at the door (enter via the alley)\n21+ with valid ID
URL:https://petrasbar.com/event/hazy-sunday/2023-10-29/
LOCATION:Petra’s\, 1919 Commonwealth Avenue\, Charlotte\, NC\, 28205\, United States
CATEGORIES:Dance,Featured,Live Music
ATTACH;FMTTYPE=image/jpeg:https://petrasbar.com/wp-content/uploads/2021/06/depositphotos_336300516-stock-photo-palm-trees-psychedelic-sky-background.jpeg
END:VEVENT
BEGIN:VEVENT
DTSTART;TZID=America/New_York:20231015T160000
DTEND;TZID=America/New_York:20231015T210000
DTSTAMP:20260423T094535
CREATED:20250806T153405Z
LAST-MODIFIED:20250806T153405Z
UID:10000989-1697385600-1697403600@petrasbar.com
SUMMARY:Hazy Sunday
DESCRIPTION:Highly curated. \nCharlotte’s best day party is on our back patio every 1st\, 3rd\, and 5th Sunday with Probably Will and Ray Krol. \n4pm – 9pm\n$10 at the door (enter via the alley)\n21+ with valid ID
URL:https://petrasbar.com/event/hazy-sunday/2023-10-15/
LOCATION:Petra’s\, 1919 Commonwealth Avenue\, Charlotte\, NC\, 28205\, United States
CATEGORIES:Dance,Featured,Live Music
ATTACH;FMTTYPE=image/jpeg:https://petrasbar.com/wp-content/uploads/2021/06/depositphotos_336300516-stock-photo-palm-trees-psychedelic-sky-background.jpeg
END:VEVENT
BEGIN:VEVENT
DTSTART;TZID=America/New_York:20231003T190000
DTEND;TZID=America/New_York:20231003T190000
DTSTAMP:20260423T094535
CREATED:20210628T195539Z
LAST-MODIFIED:20230202T153934Z
UID:10000130-1696359600-1696359600@petrasbar.com
SUMMARY:Piano Karaoke & Sing Along with Ryan Stamey
DESCRIPTION:Every 1st Tuesday! \nPick a song\, grab the Mic\, and host Ryan Stamey will accompany you on piano while you take the stage! Come grab a drink\, sing your heart out\, make requests\, or just sit back\, relax and enjoy the show! \n8pm-11pm\n7:30 Signup\n$5 At The Door\n21+ with valid ID
URL:https://petrasbar.com/event/piano-karaoke-sing-along-with-ryan-stamey/2023-10-03/
LOCATION:Petra’s\, 1919 Commonwealth Avenue\, Charlotte\, NC\, 28205\, United States
CATEGORIES:Featured,Karaoke,Live Music,Shows
ATTACH;FMTTYPE=image/jpeg:https://petrasbar.com/wp-content/uploads/2021/06/the-tropical-piano-cesar-chavez-018796f6.jpeg
END:VEVENT
BEGIN:VEVENT
DTSTART;TZID=America/New_York:20231001T160000
DTEND;TZID=America/New_York:20231001T210000
DTSTAMP:20260423T094535
CREATED:20210627T185147Z
LAST-MODIFIED:20250123T175231Z
UID:10000916-1696176000-1696194000@petrasbar.com
SUMMARY:Hazy Sunday
DESCRIPTION:Highly curated. \nCharlotte’s best day party is on our back patio every 1st\, 3rd\, and 5th Sunday with Probably Will and Ray Krol. \n4pm – 9pm\n$10 at the door (enter via the alley)\n21+ with valid ID
URL:https://petrasbar.com/event/hazy-sunday/2023-10-01/
LOCATION:Petra’s\, 1919 Commonwealth Avenue\, Charlotte\, NC\, 28205\, United States
CATEGORIES:Dance,Featured,Live Music
ATTACH;FMTTYPE=image/jpeg:https://petrasbar.com/wp-content/uploads/2021/06/depositphotos_336300516-stock-photo-palm-trees-psychedelic-sky-background.jpeg
END:VEVENT
BEGIN:VEVENT
DTSTART;TZID=America/New_York:20230917T160000
DTEND;TZID=America/New_York:20230917T210000
DTSTAMP:20260423T094535
CREATED:20250806T153405Z
LAST-MODIFIED:20250806T153405Z
UID:10000988-1694966400-1694984400@petrasbar.com
SUMMARY:Hazy Sunday
DESCRIPTION:Highly curated. \nCharlotte’s best day party is on our back patio every 1st\, 3rd\, and 5th Sunday with Probably Will and Ray Krol. \n4pm – 9pm\n$10 at the door (enter via the alley)\n21+ with valid ID
URL:https://petrasbar.com/event/hazy-sunday/2023-09-17/
LOCATION:Petra’s\, 1919 Commonwealth Avenue\, Charlotte\, NC\, 28205\, United States
CATEGORIES:Dance,Featured,Live Music
ATTACH;FMTTYPE=image/jpeg:https://petrasbar.com/wp-content/uploads/2021/06/depositphotos_336300516-stock-photo-palm-trees-psychedelic-sky-background.jpeg
END:VEVENT
BEGIN:VEVENT
DTSTART;TZID=America/New_York:20230914T190000
DTEND;TZID=America/New_York:20230914T190000
DTSTAMP:20260423T094535
CREATED:20230823T195918Z
LAST-MODIFIED:20230823T195918Z
UID:10001545-1694718000-1694718000@petrasbar.com
SUMMARY:Petra's Turns 16!
DESCRIPTION:Come celebrate with @martamoons providing all the tunes while @perrydactyls provides the libations. \n7pm until \n21+
URL:https://petrasbar.com/event/petras-turns-16/
LOCATION:Petra’s\, 1919 Commonwealth Avenue\, Charlotte\, NC\, 28205\, United States
CATEGORIES:Dance,Featured
ATTACH;FMTTYPE=image/jpeg:https://petrasbar.com/wp-content/uploads/2023/08/petras-knife-final-scaled.jpeg
END:VEVENT
BEGIN:VEVENT
DTSTART;TZID=America/New_York:20230912T190000
DTEND;TZID=America/New_York:20230912T190000
DTSTAMP:20260423T094535
CREATED:20230829T014102Z
LAST-MODIFIED:20230902T133930Z
UID:10001547-1694545200-1694545200@petrasbar.com
SUMMARY:Tutu Tuesday Tonight Show
DESCRIPTION:The kind folks from Tutu Tuesdays are bringing their tutus with them over to Petra’s for a special tutu talent show. \nShow at 8p \n$5 suggested \n21+
URL:https://petrasbar.com/event/tutu-tuesday-talent-show/
LOCATION:Petra’s\, 1919 Commonwealth Avenue\, Charlotte\, NC\, 28205\, United States
CATEGORIES:Featured,Live Music,Open Mic
ATTACH;FMTTYPE=image/jpeg:https://petrasbar.com/wp-content/uploads/2023/08/372578719_1676818502829832_7252292251637852369_n.jpeg
END:VEVENT
BEGIN:VEVENT
DTSTART;TZID=America/New_York:20230908T200000
DTEND;TZID=America/New_York:20230908T200000
DTSTAMP:20260423T094535
CREATED:20230814T183403Z
LAST-MODIFIED:20230814T183403Z
UID:10001538-1694203200-1694203200@petrasbar.com
SUMMARY:Azul presents: Divas\, Dolls\, & Disco
DESCRIPTION:Show @ 9p\n$7 Advance | $10 Day Of\n• 21+ with valid ID \n  \nAzul\nAzul is a queer Latinx musician that oscillates from tender moments of grief and love to disco dance bops\, music numbers on betrayal\, and the stress of living in our modern world. Oh and sometimes it is in Spanish. She sings and plays trumpet with her best friends and her goal is to always connect with her listeners. \nAfter releasing her debut original EP in 2021 “The View From Here\,” Azul has played all over NC and opened for several nationally touring acts. The INDY Week said about her debut single\, “Magic\,” “Magic” feels like a true pop song—lush\, catchy\, persuasive\, and full of the kind of pent-up drama that makes the quest for greater belief and optimism feel fresh. Zapata’s voice is bold and reaching; this is a single with the thrill of a big beginning.” \nhttps://www.azulzapata.com/
URL:https://petrasbar.com/event/azul-presents-divas-dolls-disco/
LOCATION:Petra’s\, 1919 Commonwealth Avenue\, Charlotte\, NC\, 28205\, United States
CATEGORIES:Featured,Live Music,Shows
ATTACH;FMTTYPE=image/jpeg:https://petrasbar.com/wp-content/uploads/2023/08/Sept-8-scaled.jpeg
END:VEVENT
BEGIN:VEVENT
DTSTART;TZID=America/New_York:20230905T190000
DTEND;TZID=America/New_York:20230905T190000
DTSTAMP:20260423T094535
CREATED:20210628T195539Z
LAST-MODIFIED:20230202T153934Z
UID:10000129-1693940400-1693940400@petrasbar.com
SUMMARY:Piano Karaoke & Sing Along with Ryan Stamey
DESCRIPTION:Every 1st Tuesday! \nPick a song\, grab the Mic\, and host Ryan Stamey will accompany you on piano while you take the stage! Come grab a drink\, sing your heart out\, make requests\, or just sit back\, relax and enjoy the show! \n8pm-11pm\n7:30 Signup\n$5 At The Door\n21+ with valid ID
URL:https://petrasbar.com/event/piano-karaoke-sing-along-with-ryan-stamey/2023-09-05/
LOCATION:Petra’s\, 1919 Commonwealth Avenue\, Charlotte\, NC\, 28205\, United States
CATEGORIES:Featured,Karaoke,Live Music,Shows
ATTACH;FMTTYPE=image/jpeg:https://petrasbar.com/wp-content/uploads/2021/06/the-tropical-piano-cesar-chavez-018796f6.jpeg
END:VEVENT
BEGIN:VEVENT
DTSTART;TZID=America/New_York:20230903T160000
DTEND;TZID=America/New_York:20230903T210000
DTSTAMP:20260423T094535
CREATED:20210627T185147Z
LAST-MODIFIED:20250123T175231Z
UID:10000915-1693756800-1693774800@petrasbar.com
SUMMARY:Hazy Sunday
DESCRIPTION:Highly curated. \nCharlotte’s best day party is on our back patio every 1st\, 3rd\, and 5th Sunday with Probably Will and Ray Krol. \n4pm – 9pm\n$10 at the door (enter via the alley)\n21+ with valid ID
URL:https://petrasbar.com/event/hazy-sunday/2023-09-03/
LOCATION:Petra’s\, 1919 Commonwealth Avenue\, Charlotte\, NC\, 28205\, United States
CATEGORIES:Dance,Featured,Live Music
ATTACH;FMTTYPE=image/jpeg:https://petrasbar.com/wp-content/uploads/2021/06/depositphotos_336300516-stock-photo-palm-trees-psychedelic-sky-background.jpeg
END:VEVENT
BEGIN:VEVENT
DTSTART;TZID=America/New_York:20230825T200000
DTEND;TZID=America/New_York:20230825T200000
DTSTAMP:20260423T094535
CREATED:20230808T152751Z
LAST-MODIFIED:20230808T153203Z
UID:10001536-1692993600-1692993600@petrasbar.com
SUMMARY:Coughing Dove Album Fundraiser
DESCRIPTION:Doors @ 8 | Show @ 9\n$7 Advance | $10 Day Of\n• 21+ with valid ID \n  \n\n\n\n\nCoughing Dove\nCoughing Dove Coughing Dove is the Charlotte-based project of Nicholas Holman\, and his second album under the name and first for Self Aware Records (Late Bloomer\, Faye) is a quiet record of folk rock and alt-country that manages to sound both dusty and polished at the same time. \nhttps://linktr.ee/coughingdove \n  \nSuspence | Indigo Jo | 6Cardinal | Harrison Bergamot\nhttps://linktr.ee/suspencefulmusicplaying\nyoutu.be/Lky1bRA0cio\non.soundcloud.com/gjBrC\nharrisonbergamot.carrd.co \n  \nYellow Sky Way\nhttps://www.yellowskyway.com/
URL:https://petrasbar.com/event/coughing-dove-album-fundraiser/
LOCATION:Petra’s\, 1919 Commonwealth Avenue\, Charlotte\, NC\, 28205\, United States
CATEGORIES:Featured,Live Music,Shows
ATTACH;FMTTYPE=image/png:https://petrasbar.com/wp-content/uploads/2023/08/Screen-Shot-2023-07-22-at-5.47.45-PM.png
END:VEVENT
BEGIN:VEVENT
DTSTART;TZID=America/New_York:20230822T190000
DTEND;TZID=America/New_York:20230822T230000
DTSTAMP:20260423T094535
CREATED:20210916T171936Z
LAST-MODIFIED:20230804T003504Z
UID:10001299-1692730800-1692745200@petrasbar.com
SUMMARY:Lost Cargo: Six Year Anniversary!
DESCRIPTION:Welcome to Lost Cargo: Tiki Social Club!\n\nWe’ve been throwing this party for six whole years! Come and celebrate with us on August 22nd.\n\n@digitalbowhite will be providing the exotica aural sensations and @martamoons & @perrydactyls will be providing a special menu of handcrafted tropical drinks.\n\nTarot card readings by @banditibliss\n\n\nFood by Jon\n\n\nBe transported to a time and space far away\, every 4th Tuesday.\nDress your Tiki best and get lost with us at Petra’s!\n\nEvery. 4th. Tuesday….\n7p-11p\nNo Cover\n21+\n\nIG @getlostcargo\nFB @LostCargoTikiSocial\n#tiki#tikiparty#exotica
URL:https://petrasbar.com/event/lost-cargo-tiki-social-party-2023-08-22/
LOCATION:Petra’s\, 1919 Commonwealth Avenue\, Charlotte\, NC\, 28205\, United States
CATEGORIES:Featured,Live Music
ATTACH;FMTTYPE=image/jpeg:https://petrasbar.com/wp-content/uploads/2021/06/tiki-babe.jpeg
END:VEVENT
BEGIN:VEVENT
DTSTART;TZID=America/New_York:20230820T160000
DTEND;TZID=America/New_York:20230820T210000
DTSTAMP:20260423T094535
CREATED:20250806T153405Z
LAST-MODIFIED:20250806T153405Z
UID:10000987-1692547200-1692565200@petrasbar.com
SUMMARY:Hazy Sunday
DESCRIPTION:Highly curated. \nCharlotte’s best day party is on our back patio every 1st\, 3rd\, and 5th Sunday with Probably Will and Ray Krol. \n4pm – 9pm\n$10 at the door (enter via the alley)\n21+ with valid ID
URL:https://petrasbar.com/event/hazy-sunday/2023-08-20/
LOCATION:Petra’s\, 1919 Commonwealth Avenue\, Charlotte\, NC\, 28205\, United States
CATEGORIES:Dance,Featured,Live Music
ATTACH;FMTTYPE=image/jpeg:https://petrasbar.com/wp-content/uploads/2021/06/depositphotos_336300516-stock-photo-palm-trees-psychedelic-sky-background.jpeg
END:VEVENT
BEGIN:VEVENT
DTSTART;TZID=America/New_York:20230819T200000
DTEND;TZID=America/New_York:20230819T200000
DTSTAMP:20260423T094535
CREATED:20230707T165249Z
LAST-MODIFIED:20230707T165249Z
UID:10001525-1692475200-1692475200@petrasbar.com
SUMMARY:Jonathan Scales Fourchestra
DESCRIPTION:Doors: 8pm | Show: 9pm\nTickets: $15\n• 21+ with valid ID \n  \nJonathan Scales Fourchestra\nYou’ve heard this before\, but the whimsically named Jonathan Scales Fourchestra is really tough to describe. Veering from in-your-face\, jaw dropping chops and passion\, to those quiet moments when the background noise disappears and you hold your breath to take in a soundscape of solitude\, the power trio of electric bass (E’Lon JD)\, drums (Maison Guidry)\, and steel pans (Jonathan Scales) combines elements of jazz\, classical\, and progressive rock\, peppered with Latin rhythms and soulful outbursts of funk. From club and festival stages across North America and Europe\, and tours of Africa\, Southeast and Central Asia as a Cultural Ambassador for the US Department of State\, to their NPR Tiny Desk Concert featuring Béla Fleck\, the Fourchestra’s live shows make even the most jaded listeners forget where they are… even if just for a precious moment. \nThis may seem an odd thing to say\, but on the verge of releasing their eighth studio recording\, Jonathan Scales Fourchestra is only now truly embracing their identity as a group. For many years\, Jonathan’s live band was a fluid lineup of top-notch musicians\, and even included an “all-star” version with bassist MonoNeon (Prince\, Nas)\, drummer Sput Searight (Snarky Puppy\, Snoop Dogg) and percussionist Weedie Braimah (Trombone Shorty\, Christian Scott aTunde Adjuah)\, as well as a number of other marquee players. Now\, however\, the Fourchestra is a decidedly indivisible band\, and Jonathan is writing for the trio\, not just the pans. \nlinktr.ee/jonathanscales
URL:https://petrasbar.com/event/jonathan-scales-fourchestra/
LOCATION:Petra’s\, 1919 Commonwealth Avenue\, Charlotte\, NC\, 28205\, United States
CATEGORIES:Featured,Live Music,Shows
ATTACH;FMTTYPE=image/jpeg:https://petrasbar.com/wp-content/uploads/2023/07/jonathan-scales-10-2022-668-scaled.jpeg
END:VEVENT
BEGIN:VEVENT
DTSTART;TZID=America/New_York:20230816T190000
DTEND;TZID=America/New_York:20230816T190000
DTSTAMP:20260423T094535
CREATED:20210618T123010Z
LAST-MODIFIED:20230618T202826Z
UID:10000519-1692212400-1692212400@petrasbar.com
SUMMARY:Robin & Charlotte present HAIRaoke: A FCKN Karaoke Takeover
DESCRIPTION:Doors: 7pm | Show: 8pm\nTickets: $5\n• 21+ with valid ID\n\n\nRobin O’Ladies & Charlotte Douglass present HAIRaoke: A FCKN Karaoke Takeover\n\nJoin your favorite sisters in our back patio and lip sync along to your favorite tunes… and make sure to wear a wig. Robin & Charlotte will also be performing some of their favorite numbers throughout the night in the main room. Mike Earl will still be hosting regular karaoke as usual in the main bar.\n\nDoor Proceeds to benefit Equality NC.
URL:https://petrasbar.com/event/fckn-karaoke-2022-02-23-2023-06-21/
LOCATION:Petra’s\, 1919 Commonwealth Avenue\, Charlotte\, NC\, 28205\, United States
CATEGORIES:Featured,Karaoke,Live Music
ATTACH;FMTTYPE=image/jpeg:https://petrasbar.com/wp-content/uploads/2021/06/348381132_950897976221617_5611600080700932526_n.jpeg
END:VEVENT
BEGIN:VEVENT
DTSTART;TZID=America/New_York:20230810T190000
DTEND;TZID=America/New_York:20230810T190000
DTSTAMP:20260423T094535
CREATED:20230807T173643Z
LAST-MODIFIED:20230807T173643Z
UID:10001535-1691694000-1691694000@petrasbar.com
SUMMARY:Nic at Nite!
DESCRIPTION:August 10 @ 7:00 pm\n\nDrinks by Nic\nTunes by Fat Keith Richards\nPaninis by Sasquatch\n\nNo Cover!
URL:https://petrasbar.com/event/nic-at-nite-4/
LOCATION:Petra’s\, 1919 Commonwealth Avenue\, Charlotte\, NC\, 28205\, United States
CATEGORIES:Featured
ATTACH;FMTTYPE=image/png:https://petrasbar.com/wp-content/uploads/2023/08/Aug-10.png
END:VEVENT
BEGIN:VEVENT
DTSTART;TZID=America/New_York:20230806T160000
DTEND;TZID=America/New_York:20230806T210000
DTSTAMP:20260423T094535
CREATED:20210627T185147Z
LAST-MODIFIED:20250123T175231Z
UID:10000914-1691337600-1691355600@petrasbar.com
SUMMARY:Hazy Sunday
DESCRIPTION:Highly curated. \nCharlotte’s best day party is on our back patio every 1st\, 3rd\, and 5th Sunday with Probably Will and Ray Krol. \n4pm – 9pm\n$10 at the door (enter via the alley)\n21+ with valid ID
URL:https://petrasbar.com/event/hazy-sunday/2023-08-06/
LOCATION:Petra’s\, 1919 Commonwealth Avenue\, Charlotte\, NC\, 28205\, United States
CATEGORIES:Dance,Featured,Live Music
ATTACH;FMTTYPE=image/jpeg:https://petrasbar.com/wp-content/uploads/2021/06/depositphotos_336300516-stock-photo-palm-trees-psychedelic-sky-background.jpeg
END:VEVENT
BEGIN:VEVENT
DTSTART;TZID=America/New_York:20230801T190000
DTEND;TZID=America/New_York:20230801T190000
DTSTAMP:20260423T094535
CREATED:20210628T195539Z
LAST-MODIFIED:20230202T153934Z
UID:10000128-1690916400-1690916400@petrasbar.com
SUMMARY:Piano Karaoke & Sing Along with Ryan Stamey
DESCRIPTION:Every 1st Tuesday! \nPick a song\, grab the Mic\, and host Ryan Stamey will accompany you on piano while you take the stage! Come grab a drink\, sing your heart out\, make requests\, or just sit back\, relax and enjoy the show! \n8pm-11pm\n7:30 Signup\n$5 At The Door\n21+ with valid ID
URL:https://petrasbar.com/event/piano-karaoke-sing-along-with-ryan-stamey/2023-08-01/
LOCATION:Petra’s\, 1919 Commonwealth Avenue\, Charlotte\, NC\, 28205\, United States
CATEGORIES:Featured,Karaoke,Live Music,Shows
ATTACH;FMTTYPE=image/jpeg:https://petrasbar.com/wp-content/uploads/2021/06/the-tropical-piano-cesar-chavez-018796f6.jpeg
END:VEVENT
END:VCALENDAR